BEGIN:VCALENDAR
VERSION:2.0
PRODID:-//Tri-County Educational Service Center - ECPv6.15.20//NONSGML v1.0//EN
CALSCALE:GREGORIAN
METHOD:PUBLISH
X-ORIGINAL-URL:https://www.youresc.k12.oh.us
X-WR-CALDESC:Events for Tri-County Educational Service Center
REFRESH-INTERVAL;VALUE=DURATION:PT1H
X-Robots-Tag:noindex
X-PUBLISHED-TTL:PT1H
BEGIN:VTIMEZONE
TZID:America/New_York
BEGIN:DAYLIGHT
TZOFFSETFROM:-0500
TZOFFSETTO:-0400
TZNAME:EDT
DTSTART:20250309T070000
END:DAYLIGHT
BEGIN:STANDARD
TZOFFSETFROM:-0400
TZOFFSETTO:-0500
TZNAME:EST
DTSTART:20251102T060000
END:STANDARD
BEGIN:DAYLIGHT
TZOFFSETFROM:-0500
TZOFFSETTO:-0400
TZNAME:EDT
DTSTART:20260308T070000
END:DAYLIGHT
BEGIN:STANDARD
TZOFFSETFROM:-0400
TZOFFSETTO:-0500
TZNAME:EST
DTSTART:20261101T060000
END:STANDARD
BEGIN:DAYLIGHT
TZOFFSETFROM:-0500
TZOFFSETTO:-0400
TZNAME:EDT
DTSTART:20270314T070000
END:DAYLIGHT
BEGIN:STANDARD
TZOFFSETFROM:-0400
TZOFFSETTO:-0500
TZNAME:EST
DTSTART:20271107T060000
END:STANDARD
END:VTIMEZONE
BEGIN:VEVENT
DTSTART;TZID=America/New_York:20260408T083000
DTEND;TZID=America/New_York:20260408T143000
DTSTAMP:20260421T102327
CREATED:20260309T150033Z
LAST-MODIFIED:20260417T210450Z
UID:10000767-1775637000-1775658600@www.youresc.k12.oh.us
SUMMARY:Celebrating America's 250th & Teaching the American Revolution In The Classroom
DESCRIPTION:Title\nCelebrating America’s 250th & Teaching The American Revolution In The Classroom \nInformation\nSee Flyer for More Details: CLICK HERE \nLocation\nWayne County Historical Society \nTime\n8:30 AM to 2:30 PM \nRegistration\nTo Register: RSVP to jeanderson1710@gmail.com\nSpace is limited. \nAdditional Information\nInformation for elementary\, middle\, and high school teachers. \nCategories: Administrators\, Literacy\, Fine Arts\, Math\, Behavior\, Student Services/Special Ed
URL:https://www.youresc.k12.oh.us/event/celebrating-americas-250th-teaching-the-american-revolution-in-the-classroom/
LOCATION:Wayne County Historical Society of Ohio (546 E Bowman St\, Wooster\, OH 44691\, United States)
CATEGORIES:Admin,Behavior,Fine Arts,Literacy,Math,Student Services
END:VEVENT
END:VCALENDAR