BEGIN:VCALENDAR
VERSION:2.0
PRODID:-//Tri-County Educational Service Center - ECPv6.15.20//NONSGML v1.0//EN
CALSCALE:GREGORIAN
METHOD:PUBLISH
X-WR-CALNAME:Tri-County Educational Service Center
X-ORIGINAL-URL:https://www.youresc.k12.oh.us
X-WR-CALDESC:Events for Tri-County Educational Service Center
REFRESH-INTERVAL;VALUE=DURATION:PT1H
X-Robots-Tag:noindex
X-PUBLISHED-TTL:PT1H
BEGIN:VTIMEZONE
TZID:America/New_York
BEGIN:DAYLIGHT
TZOFFSETFROM:-0500
TZOFFSETTO:-0400
TZNAME:EDT
DTSTART:20240310T070000
END:DAYLIGHT
BEGIN:STANDARD
TZOFFSETFROM:-0400
TZOFFSETTO:-0500
TZNAME:EST
DTSTART:20241103T060000
END:STANDARD
BEGIN:DAYLIGHT
TZOFFSETFROM:-0500
TZOFFSETTO:-0400
TZNAME:EDT
DTSTART:20250309T070000
END:DAYLIGHT
BEGIN:STANDARD
TZOFFSETFROM:-0400
TZOFFSETTO:-0500
TZNAME:EST
DTSTART:20251102T060000
END:STANDARD
BEGIN:DAYLIGHT
TZOFFSETFROM:-0500
TZOFFSETTO:-0400
TZNAME:EDT
DTSTART:20260308T070000
END:DAYLIGHT
BEGIN:STANDARD
TZOFFSETFROM:-0400
TZOFFSETTO:-0500
TZNAME:EST
DTSTART:20261101T060000
END:STANDARD
BEGIN:DAYLIGHT
TZOFFSETFROM:-0500
TZOFFSETTO:-0400
TZNAME:EDT
DTSTART:20270314T070000
END:DAYLIGHT
BEGIN:STANDARD
TZOFFSETFROM:-0400
TZOFFSETTO:-0500
TZNAME:EST
DTSTART:20271107T060000
END:STANDARD
END:VTIMEZONE
BEGIN:VEVENT
DTSTART;TZID=America/New_York:20251119T090000
DTEND;TZID=America/New_York:20251119T110000
DTSTAMP:20260422T185435
CREATED:20260309T150619Z
LAST-MODIFIED:20260417T210441Z
UID:10000950-1763542800-1763550000@www.youresc.k12.oh.us
SUMMARY:Curriculum Director's Meeting
DESCRIPTION:Title\nCurriculum Director’s Meeting \nInformation \nLocation\nEvent Center Room A \nTime\n9 a.m. – 11 a.m. \nRegistration \nAdditional Information \nCategories: Administrators \n________________________________________________________________________________\nMicrosoft Teams Need help? \nJoin the meeting now \nMeeting ID: 238 325 157 649\nPasscode: nq7Qw3nv\n________________________________\nFor organizers: Meeting options \n________________________________________________________________________________
URL:https://www.youresc.k12.oh.us/event/curriculum-directors-meeting-2/
LOCATION:Event Center Rm. A (700 Winkler Dr.\, Wooster\, OH 44691\, US)
CATEGORIES:Admin
END:VEVENT
BEGIN:VEVENT
DTSTART;TZID=America/New_York:20251120T090000
DTEND;TZID=America/New_York:20251120T110000
DTSTAMP:20260422T185435
CREATED:20260309T150619Z
LAST-MODIFIED:20260417T210441Z
UID:10000951-1763629200-1763636400@www.youresc.k12.oh.us
SUMMARY:Elementary Principal Meeting
DESCRIPTION:Title\nElementary Principal Meeting \nInformation \nLocation\nEvent Center Room A \nTime\n9 a.m. – 11 a.m. \nRegistration \nAdditional Information \nCategories: Administrators \n________________________________________________________________________________\nMicrosoft Teams Need help? \nJoin the meeting now \nMeeting ID: 235 204 831 360\nPasscode: 8XB2oG2B\n________________________________\nFor organizers: Meeting options \n________________________________________________________________________________
URL:https://www.youresc.k12.oh.us/event/elementary-principal-meeting-2/
LOCATION:Event Center Rm. A
CATEGORIES:Admin
END:VEVENT
BEGIN:VEVENT
DTSTART;TZID=America/New_York:20251121T090000
DTEND;TZID=America/New_York:20251121T110000
DTSTAMP:20260422T185435
CREATED:20260309T150619Z
LAST-MODIFIED:20260417T210441Z
UID:10000952-1763715600-1763722800@www.youresc.k12.oh.us
SUMMARY:Superintendent's Meeting
DESCRIPTION:Title\nSuperintendent’s Meeting       \nInformation \nLocation\nEvent Center Room A \nTime\n9 a.m. – 11 a.m. \nRegistration \nAdditional Information \nCategories: Administrators \n________________________________________________________________________________\nMicrosoft Teams Need help? \nJoin the meeting now \nMeeting ID: 280 411 333 589\nPasscode: wq34GX9R\n________________________________\nFor organizers: Meeting options \n________________________________________________________________________________
URL:https://www.youresc.k12.oh.us/event/superintendents-meeting-6/
LOCATION:Event Center Rm. A (700 Winkler Dr.\, Wooster\, OH 44691\, US)
CATEGORIES:Admin
END:VEVENT
BEGIN:VEVENT
DTSTART;TZID=America/New_York:20251121T100000
DTEND;TZID=America/New_York:20251121T110000
DTSTAMP:20260422T185435
CREATED:20260309T150620Z
LAST-MODIFIED:20260417T210441Z
UID:10000953-1763719200-1763722800@www.youresc.k12.oh.us
SUMMARY:ReadOhio Policy Hour Webinar
DESCRIPTION:https://events.gcc.teams.microsoft.com/event/79a0d9ac-62c3-4330-a96f-795b5014d0b4@50f8fcc4-94d8-4f07-84eb-36ed57c7c8a2 \nThe Department will host The ReadOhio Policy Hour –  a monthly webinar where the Department’s literacy team will provide updates and answer questions about Ohio literacy policies such as the Third Grade Reading Guarantee\, RIMPs\, Dyslexia Support Laws\, HQIM requirements\, Science of Reading Professional Development\, and more. \n________________________________________________________________________________\nMicrosoft Teams Need help? \nJoin the meeting now \nMeeting ID: 261 512 359 091 4\nPasscode: 82Vw6724\n________________________________\nFor organizers: Meeting options \n________________________________________________________________________________
URL:https://www.youresc.k12.oh.us/event/readohio-policy-hour-webinar-5/
LOCATION:Hosted virtually on Microsoft Virtual Events (link in the description)
END:VEVENT
BEGIN:VEVENT
DTSTART;TZID=America/New_York:20251124T090000
DTEND;TZID=America/New_York:20251124T110000
DTSTAMP:20260422T185435
CREATED:20260309T150620Z
LAST-MODIFIED:20260417T210441Z
UID:10000954-1763974800-1763982000@www.youresc.k12.oh.us
SUMMARY:EVAAS for Admin Part 2
DESCRIPTION:Title\nEVAAS for Administrators Part 2 \nDescription\nTeacher- and student- level reports will be the focus of this workshop. Participants should attend part 1 or have a general familiarity with the EVAAS system and reporting. \nLocation (address & room)\nTri-County Event Center\n700 Winkler Dr.\nWooster\, OH 44691\nRoom B \nTime\n9:00-11:00 with time for Q&A to follow \nRegistration\nSee this flier for information and a registration link \nContact Information\nJill Kelly\ntesc_jkelly@tccsa.net \nCategories: Administrators
URL:https://www.youresc.k12.oh.us/event/evaas-for-admin-part-2/
LOCATION:Event Center Rm. B (700 Winkler Dr.\, Wooster\, OH 44691\, US)
CATEGORIES:Admin
END:VEVENT
BEGIN:VEVENT
DTSTART;VALUE=DATE:20251127
DTEND;VALUE=DATE:20251128
DTSTAMP:20260422T185435
CREATED:20260309T150620Z
LAST-MODIFIED:20260417T210441Z
UID:10000955-1764201600-1764287999@www.youresc.k12.oh.us
SUMMARY:THANKSGIVING - OFFICE CLOSED
DESCRIPTION:
URL:https://www.youresc.k12.oh.us/event/thanksgiving-office-closed/
END:VEVENT
BEGIN:VEVENT
DTSTART;VALUE=DATE:20251128
DTEND;VALUE=DATE:20251129
DTSTAMP:20260422T185435
CREATED:20260309T150620Z
LAST-MODIFIED:20260417T210442Z
UID:10000956-1764288000-1764374399@www.youresc.k12.oh.us
SUMMARY:Office Closed
DESCRIPTION:
URL:https://www.youresc.k12.oh.us/event/office-closed/
END:VEVENT
BEGIN:VEVENT
DTSTART;TZID=America/New_York:20251202T090000
DTEND;TZID=America/New_York:20251202T120000
DTSTAMP:20260422T185435
CREATED:20260309T150621Z
LAST-MODIFIED:20260417T210442Z
UID:10000957-1764666000-1764676800@www.youresc.k12.oh.us
SUMMARY:CANCELLED - Substitute Orientation
DESCRIPTION:Description\nOrientation \nRegistration \nContact\nKaren Miller \nCategories\nSupport Staff \n________________________________________________________________________________\nMicrosoft Teams Need help? \nJoin the meeting now \nMeeting ID: 264 605 373 274\nPasscode: oU96pb6n\n________________________________\nFor organizers: Meeting options \n________________________________________________________________________________
URL:https://www.youresc.k12.oh.us/event/cancelled-substitute-orientation/
LOCATION:TESC Main Conference Room (Winkler\, Wooster\, OH 44691\, US)
CATEGORIES:Support Staff
END:VEVENT
BEGIN:VEVENT
DTSTART;TZID=America/New_York:20251202T103000
DTEND;TZID=America/New_York:20251202T133000
DTSTAMP:20260422T185435
CREATED:20260309T150621Z
LAST-MODIFIED:20260417T210442Z
UID:10000958-1764671400-1764682200@www.youresc.k12.oh.us
SUMMARY:CANCELLED - Special Education Director's Meeting
DESCRIPTION:Title\nSpecial Education Director’s Meeting \nInformation \nLocation\nEvent Center Room A \nTime\n9:30 am. – 12:30 p.m. \nRegistration \nAdditional Information \nCategories: Administrators\, Student Services/Special Ed \n________________________________________________________________________________\nMicrosoft Teams Need help? \nJoin the meeting now \nMeeting ID: 261 220 077 007\nPasscode: zs9dz7Wi\n________________________________\nFor organizers: Meeting options \n________________________________________________________________________________
URL:https://www.youresc.k12.oh.us/event/cancelled-special-education-directors-meeting/
LOCATION:Event Center Rm. A (700 Winkler Dr.\, Wooster\, OH 44691\, US)
CATEGORIES:Admin,Student Services
END:VEVENT
BEGIN:VEVENT
DTSTART;VALUE=DATE:20251204
DTEND;VALUE=DATE:20251205
DTSTAMP:20260422T185435
CREATED:20260309T150621Z
LAST-MODIFIED:20260417T210442Z
UID:10000960-1764806400-1764892799@www.youresc.k12.oh.us
SUMMARY:LETRS Unit 3
DESCRIPTION:Description\nMore Information Coming Soon! \nLocation (address & room)\nTri-County Education Service Center\n741 Winkler Dr. Wooster\, OH \nTri-County Education Service Center\nEvent Center\, Room XX\n700 Winkler Dr. Wooster\, OH \nTime\n8:30 AM – 3:30 PM \nRegistration\nLink Coming Soon! \nAdditional Information \nContact Information\nJennifer Marrah \nCategories:Administrators\, Literacy\, Fine Arts\, Student Services/Special Ed
URL:https://www.youresc.k12.oh.us/event/letrs-unit-3/
LOCATION:Event Center Rm. A (700 Winkler Dr.\, Wooster\, OH 44691\, US)
CATEGORIES:Admin,Fine Arts,Literacy,Student Services
END:VEVENT
BEGIN:VEVENT
DTSTART;TZID=America/New_York:20251204T110000
DTEND;TZID=America/New_York:20251204T130000
DTSTAMP:20260422T185435
CREATED:20260309T150621Z
LAST-MODIFIED:20260417T210442Z
UID:10000959-1764846000-1764853200@www.youresc.k12.oh.us
SUMMARY:WCAL Athletic Director's Meeting
DESCRIPTION:Title\nAD Meeting \nInformation \nLocation\nEvent Center Room A \nTime\n11 a.m. \nRegistration \nAdditional Information\nAnita Jorney-Gifford\nnrws_ajgifford@tccsa.net \nCategories: Administrators\, Literacy\, Fine Arts\, Math\, Behavior\, Student Services/Special Ed \n________________________________________________________________________________\nMicrosoft Teams Need help? \nJoin the meeting now \nMeeting ID: 211 007 511 421 3\nPasscode: vB3Z4Gk2\n________________________________\nFor organizers: Meeting options \n________________________________________________________________________________
URL:https://www.youresc.k12.oh.us/event/wcal-athletic-directors-meeting-8/
LOCATION:Event Center Rm. B (700 Winkler Dr.\, Wooster\, OH 44691\, US)
CATEGORIES:Admin,Behavior,Fine Arts,Literacy,Math,Student Services
END:VEVENT
BEGIN:VEVENT
DTSTART;TZID=America/New_York:20251205T083000
DTEND;TZID=America/New_York:20251205T153000
DTSTAMP:20260422T185435
CREATED:20260309T150621Z
LAST-MODIFIED:20260417T210442Z
UID:10000961-1764923400-1764948600@www.youresc.k12.oh.us
SUMMARY:Grassroots Math Network
DESCRIPTION:Title\nGrassroots Math Network \nLocation (address & room)\nTri-County Education Service Center\nEvent Center\, Room A\n700 Winkler Dr. Wooster\, OH \nTime\n8:30 AM – 3:00 PM \nRegistration\nSee the flier for more information and a registration link. \nContact Information\nJill Kelly\ntesc_jkelly@tccsa.net \nKatie Kirkpatrick\ntesc_kkirkpatrick@tccsa.net \nCategories:\nMath
URL:https://www.youresc.k12.oh.us/event/grassroots-math-network-3/
LOCATION:Event Center Rm. B (700 Winkler Dr.\, Wooster\, OH 44691\, US)
CATEGORIES:Math
END:VEVENT
BEGIN:VEVENT
DTSTART;TZID=America/New_York:20251206T093000
DTEND;TZID=America/New_York:20251206T120000
DTSTAMP:20260422T185435
CREATED:20260309T150622Z
LAST-MODIFIED:20260417T210442Z
UID:10000962-1765013400-1765022400@www.youresc.k12.oh.us
SUMMARY:New Board Member Training (OSBA)
DESCRIPTION:Teri Morgan\, OSBA\, tmorgan@schoolboards.org\nBL
URL:https://www.youresc.k12.oh.us/event/new-board-member-training-osba/
LOCATION:Event Center Rm. A
END:VEVENT
BEGIN:VEVENT
DTSTART;VALUE=DATE:20251208
DTEND;VALUE=DATE:20251209
DTSTAMP:20260422T185435
CREATED:20260309T150622Z
LAST-MODIFIED:20260417T210442Z
UID:10000963-1765152000-1765238399@www.youresc.k12.oh.us
SUMMARY:Keys to Comprehension (series)
DESCRIPTION:Description\n In this session\, educators will explore evidence-based strategies to strengthen students’ reading comprehension. Participants will learn how to teach main idea\, text structure\, note-taking\, summarizing\, and question generation to help students better understand and analyze text. \nLocation (address & room)\nTri-County Education Service Center\nEvent Center\, Room B\n700 Winkler Dr. Wooster\, OH \nTime\n8:30 AM – 2:30 PM \nRegistration\nClick Link Here \nAdditional Information\nLunch on your own! \nContact Information\nJennifer Marrah \nCategories:Administrators\, Literacy\,  Student Services/Special Ed
URL:https://www.youresc.k12.oh.us/event/keys-to-comprehension-series/
LOCATION:Event Center Rm. B (700 Winkler Dr.\, Wooster\, OH 44691\, US)
CATEGORIES:Admin,Literacy,Student Services
END:VEVENT
BEGIN:VEVENT
DTSTART;TZID=America/New_York:20251209T083000
DTEND;TZID=America/New_York:20251209T153000
DTSTAMP:20260422T185435
CREATED:20260309T150622Z
LAST-MODIFIED:20260417T210443Z
UID:10000964-1765269000-1765294200@www.youresc.k12.oh.us
SUMMARY:LETRS: Unit 8
DESCRIPTION:Description\nMeeting \nRegistration \nContact\nJennifer Marrah/Beth Gaubatz \nCategories: Administrators\, Literacy\, Behavior\, Student Services/Special Ed\, \n05/02/2024 – TM
URL:https://www.youresc.k12.oh.us/event/letrs-unit-8-2/
LOCATION:Event Center Rm. B (700 Winkler Dr.\, Wooster\, OH 44691\, US)
CATEGORIES:Admin,Behavior,Literacy,Student Services
END:VEVENT
BEGIN:VEVENT
DTSTART;TZID=America/New_York:20251210T083000
DTEND;TZID=America/New_York:20251210T153000
DTSTAMP:20260422T185435
CREATED:20260309T150622Z
LAST-MODIFIED:20260417T210443Z
UID:10000965-1765355400-1765380600@www.youresc.k12.oh.us
SUMMARY:LETRS: Unit 8
DESCRIPTION:Description\nLETRS Unit 8 additional day\, make up day – open to all cohorts \nRegistration\n** \nContact Information\nJennifer Marrah tesc_jmarrah@tccsa.net\nBeth Gaubatz tesc_bgaubatz@tccsa.net \nCategories: Literacy \nMarrah/Gaubatz \n05/02/2024 – TM
URL:https://www.youresc.k12.oh.us/event/letrs-unit-8-3/
LOCATION:Event Center Rm. B (700 Winkler Dr.\, Wooster\, OH 44691\, US)
CATEGORIES:Literacy
END:VEVENT
BEGIN:VEVENT
DTSTART;TZID=America/New_York:20251210T120000
DTEND;TZID=America/New_York:20251210T150000
DTSTAMP:20260422T185435
CREATED:20260309T150622Z
LAST-MODIFIED:20260417T210443Z
UID:10000966-1765368000-1765378800@www.youresc.k12.oh.us
SUMMARY:School Psychologist Meeting
DESCRIPTION:Title\nSchool Psychologist Meeting \nInformation \nLocation\nEvent Center B \nTime\n12 p.m. – 3 p.m. \nRegistration \nAdditional Information \nCategories: Administrators\, Behavior\, Student Services/Special Ed \n________________________________________________________________________________\nMicrosoft Teams Need help? \nJoin the meeting now \nMeeting ID: 236 229 419 559\nPasscode: fj9ze2zu\n________________________________\nFor organizers: Meeting options \n________________________________________________________________________________
URL:https://www.youresc.k12.oh.us/event/school-psychologist-meeting-2/
LOCATION:Event Center Rm. A (700 Winkler Dr.\, Wooster\, OH 44691\, US)
CATEGORIES:Admin,Behavior,Student Services
END:VEVENT
BEGIN:VEVENT
DTSTART;TZID=America/New_York:20251211T080000
DTEND;TZID=America/New_York:20251211T140000
DTSTAMP:20260422T185435
CREATED:20260309T150622Z
LAST-MODIFIED:20260417T210443Z
UID:10000967-1765440000-1765461600@www.youresc.k12.oh.us
SUMMARY:High School Math Teacher Network
DESCRIPTION:Title\nHigh School Math PD \nDescription\nThis participant-built series will create a community of  teachers who want to learn and employ quality practices so that all students can thrive as mathematicians. \nLocation (address & room)\nTri-County Event Center\n700 Winkler Dr.\nWooster\, OH 44691\nRoom B \nTime\n8:00 – 2:00 \nRegistration\nSee this flier for more information and a registration link\n. \nCost\nFree to member districts\nIncluded in Networking Fee for non-members. Contact Jill or your administrator for more information. \nContact Information\nJill Kelly\ntesc_jkelly@tccsa.net \nCategories: Math
URL:https://www.youresc.k12.oh.us/event/high-school-math-teacher-network-2/
LOCATION:Event Center Rm. B (700 Winkler Dr.\, Wooster\, OH 44691\, US)
CATEGORIES:Math
END:VEVENT
BEGIN:VEVENT
DTSTART;TZID=America/New_York:20251211T090000
DTEND;TZID=America/New_York:20251211T120000
DTSTAMP:20260422T185435
CREATED:20260309T150623Z
LAST-MODIFIED:20260417T210443Z
UID:10000968-1765443600-1765454400@www.youresc.k12.oh.us
SUMMARY:Instructional Coaching Network
DESCRIPTION:Title\nInstructional Coaching Network\nInformation \nLocation\nEvent Center Room A \nTime\n9 a.m. – 12 p.m. \nRegistration \nAdditional Information \nCategories: Administrators\, Literacy\, Fine Arts\, Math\, Behavior\, Student Services/Special Ed \n________________________________________________________________________________\nMicrosoft Teams Need help? \nJoin the meeting now \nMeeting ID: 215 030 520 621\nPasscode: nR2wF6pD\n________________________________\nFor organizers: Meeting options \n________________________________________________________________________________
URL:https://www.youresc.k12.oh.us/event/instructional-coaching-network-4/
LOCATION:Event Center Rm. A (700 Winkler Dr.\, Wooster\, OH 44691\, US)
CATEGORIES:Admin,Behavior,Fine Arts,Literacy,Math,Student Services
END:VEVENT
BEGIN:VEVENT
DTSTART;TZID=America/New_York:20251212T083000
DTEND;TZID=America/New_York:20251212T143000
DTSTAMP:20260422T185435
CREATED:20260309T150623Z
LAST-MODIFIED:20260417T210443Z
UID:10000969-1765528200-1765549800@www.youresc.k12.oh.us
SUMMARY:Mathematical Language Routines for Grades 3-8
DESCRIPTION:Title\nMathematical Language Routines for Grades 3-8 \nDescription\nThis session will explore the MLRs\, “Eight Effective Approaches to Increase Communication and Reasoning in Math Class.” Teachers will experience each MLR and create a plan for implementing them in their classrooms. \nLocation (address & room)\nTri-County Event Center\n700 Winkler Dr.\nWooster\, OH 44691\nRoom A \nTime\n8:30-2:30 \nRegistration\nSee this flier for more information and a registration link. \nCost\nFree to member districts\n$100 for non-members \nContact Information\nJill Kelly\ntesc_jkelly@tccsa.net \nCategories: Administrators
URL:https://www.youresc.k12.oh.us/event/mathematical-language-routines-for-grades-3-8/
LOCATION:Event Center Rm. A (700 Winkler Dr.\, Wooster\, OH 44691\, US)
CATEGORIES:Admin
END:VEVENT
BEGIN:VEVENT
DTSTART;TZID=America/New_York:20251213T143000
DTEND;TZID=America/New_York:20251213T153000
DTSTAMP:20260422T185435
CREATED:20260309T150623Z
LAST-MODIFIED:20260417T210443Z
UID:10000970-1765636200-1765639800@www.youresc.k12.oh.us
SUMMARY:Tri-County Children's Chorus Holiday Concert
DESCRIPTION:TM/AL – 08/27/2025
URL:https://www.youresc.k12.oh.us/event/tri-county-childrens-chorus-holiday-concert/
LOCATION:Zion Lutheran Church ELCA (301 N Market St\, Wooster\, OH 44691\, United States)
END:VEVENT
BEGIN:VEVENT
DTSTART;TZID=America/New_York:20251216T083000
DTEND;TZID=America/New_York:20251216T113000
DTSTAMP:20260422T185435
CREATED:20260309T150623Z
LAST-MODIFIED:20260417T210444Z
UID:10000971-1765873800-1765884600@www.youresc.k12.oh.us
SUMMARY:Parapro Testing
DESCRIPTION:Registration \nAdditional Information \nContact Information\nKaren Miller \nCategories: Administrators \nkm 5/20/25 \n________________________________________________________________________________\nMicrosoft Teams Need help? \nJoin the meeting now \nMeeting ID: 233 863 208 141 2\nPasscode: CP7bf6DL\n________________________________\nFor organizers: Meeting options \n________________________________________________________________________________
URL:https://www.youresc.k12.oh.us/event/parapro-testing-17/
LOCATION:TESC Computer Lab (741 WInkler Dr.\, Wooster\, OH 44691\, US)
CATEGORIES:Admin
END:VEVENT
BEGIN:VEVENT
DTSTART;VALUE=DATE:20251224
DTEND;VALUE=DATE:20251227
DTSTAMP:20260422T185435
CREATED:20260309T150623Z
LAST-MODIFIED:20260417T210444Z
UID:10000973-1766534400-1766793599@www.youresc.k12.oh.us
SUMMARY:Office Closed
DESCRIPTION:
URL:https://www.youresc.k12.oh.us/event/office-closed-2/
END:VEVENT
BEGIN:VEVENT
DTSTART;VALUE=DATE:20251225
DTEND;VALUE=DATE:20251226
DTSTAMP:20260422T185435
CREATED:20260309T150623Z
LAST-MODIFIED:20260417T210444Z
UID:10000972-1766620800-1766707199@www.youresc.k12.oh.us
SUMMARY:CHRISTMAS
DESCRIPTION:
URL:https://www.youresc.k12.oh.us/event/christmas/
END:VEVENT
BEGIN:VEVENT
DTSTART;VALUE=DATE:20251231
DTEND;VALUE=DATE:20260103
DTSTAMP:20260422T185435
CREATED:20260309T150624Z
LAST-MODIFIED:20260417T210444Z
UID:10000974-1767139200-1767398399@www.youresc.k12.oh.us
SUMMARY:Office Closed
DESCRIPTION:
URL:https://www.youresc.k12.oh.us/event/office-closed-3/
END:VEVENT
BEGIN:VEVENT
DTSTART;VALUE=DATE:20260101
DTEND;VALUE=DATE:20260102
DTSTAMP:20260422T185435
CREATED:20260309T150624Z
LAST-MODIFIED:20260417T210444Z
UID:10000975-1767225600-1767311999@www.youresc.k12.oh.us
SUMMARY:NEW YEAR'S DAY
DESCRIPTION:
URL:https://www.youresc.k12.oh.us/event/new-years-day/
END:VEVENT
BEGIN:VEVENT
DTSTART;VALUE=DATE:20260110
DTEND;VALUE=DATE:20260111
DTSTAMP:20260422T185435
CREATED:20260309T150624Z
LAST-MODIFIED:20260417T210444Z
UID:10000976-1768003200-1768089599@www.youresc.k12.oh.us
SUMMARY:HS Academic Challenge
DESCRIPTION:
URL:https://www.youresc.k12.oh.us/event/hs-academic-challenge/
LOCATION:Triway High School (3145 Shreve Rd\, Wooster\, OH 44691-4437\, United States)
END:VEVENT
BEGIN:VEVENT
DTSTART;TZID=America/New_York:20260112T073000
DTEND;TZID=America/New_York:20260112T083000
DTSTAMP:20260422T185435
CREATED:20260309T150624Z
LAST-MODIFIED:20260417T210444Z
UID:10000977-1768203000-1768206600@www.youresc.k12.oh.us
SUMMARY:TESC Board Meeting
DESCRIPTION:LS\n11/10/25
URL:https://www.youresc.k12.oh.us/event/tesc-board-meeting-13/
LOCATION:Event Center Rm. A (700 Winkler Dr.\, Wooster\, OH 44691\, US)
END:VEVENT
BEGIN:VEVENT
DTSTART;TZID=America/New_York:20260115T083000
DTEND;TZID=America/New_York:20260115T113000
DTSTAMP:20260422T185435
CREATED:20260309T150624Z
LAST-MODIFIED:20260417T210444Z
UID:10000978-1768465800-1768476600@www.youresc.k12.oh.us
SUMMARY:Parapro Testing
DESCRIPTION:Registration \nAdditional Information \nContact Information\nKaren Miller \nCategories: Administrators \nKm 9/11/25 \n________________________________________________________________________________\nMicrosoft Teams Need help? \nJoin the meeting now \nMeeting ID: 273 661 684 262 1\nPasscode: YW22dS2C\n________________________________\nFor organizers: Meeting options \n________________________________________________________________________________
URL:https://www.youresc.k12.oh.us/event/parapro-testing-18/
LOCATION:TESC Computer Lab (741 WInkler Dr.\, Wooster\, OH 44691\, US)
CATEGORIES:Admin
END:VEVENT
BEGIN:VEVENT
DTSTART;TZID=America/New_York:20260119T080000
DTEND;TZID=America/New_York:20260119T083000
DTSTAMP:20260422T185435
CREATED:20260309T150624Z
LAST-MODIFIED:20260417T210444Z
UID:10000979-1768809600-1768811400@www.youresc.k12.oh.us
SUMMARY:MARTIN LUTHER KING DAY - OFFICE CLOSED
DESCRIPTION:
URL:https://www.youresc.k12.oh.us/event/martin-luther-king-day-office-closed/
END:VEVENT
END:VCALENDAR