BEGIN:VCALENDAR
VERSION:2.0
PRODID:-//Tri-County Educational Service Center - ECPv6.15.20//NONSGML v1.0//EN
CALSCALE:GREGORIAN
METHOD:PUBLISH
X-WR-CALNAME:Tri-County Educational Service Center
X-ORIGINAL-URL:https://www.youresc.k12.oh.us
X-WR-CALDESC:Events for Tri-County Educational Service Center
REFRESH-INTERVAL;VALUE=DURATION:PT1H
X-Robots-Tag:noindex
X-PUBLISHED-TTL:PT1H
BEGIN:VTIMEZONE
TZID:America/New_York
BEGIN:DAYLIGHT
TZOFFSETFROM:-0500
TZOFFSETTO:-0400
TZNAME:EDT
DTSTART:20250309T070000
END:DAYLIGHT
BEGIN:STANDARD
TZOFFSETFROM:-0400
TZOFFSETTO:-0500
TZNAME:EST
DTSTART:20251102T060000
END:STANDARD
BEGIN:DAYLIGHT
TZOFFSETFROM:-0500
TZOFFSETTO:-0400
TZNAME:EDT
DTSTART:20260308T070000
END:DAYLIGHT
BEGIN:STANDARD
TZOFFSETFROM:-0400
TZOFFSETTO:-0500
TZNAME:EST
DTSTART:20261101T060000
END:STANDARD
BEGIN:DAYLIGHT
TZOFFSETFROM:-0500
TZOFFSETTO:-0400
TZNAME:EDT
DTSTART:20270314T070000
END:DAYLIGHT
BEGIN:STANDARD
TZOFFSETFROM:-0400
TZOFFSETTO:-0500
TZNAME:EST
DTSTART:20271107T060000
END:STANDARD
END:VTIMEZONE
BEGIN:VEVENT
DTSTART;TZID=America/New_York:20261001T080000
DTEND;TZID=America/New_York:20261001T140000
DTSTAMP:20260421T213428
CREATED:20260413T183830Z
LAST-MODIFIED:20260422T012519Z
UID:10001033-1790841600-1790863200@www.youresc.k12.oh.us
SUMMARY:High School Math Network
DESCRIPTION:Description:\nHigh School Math Network\nCategories: Math
URL:https://www.youresc.k12.oh.us/event/high-school-math-network/
LOCATION:Event Center Rm. B (700 Winkler Dr.\, Wooster\, OH 44691\, US)
CATEGORIES:Math
END:VEVENT
BEGIN:VEVENT
DTSTART;TZID=America/New_York:20260930T130000
DTEND;TZID=America/New_York:20260930T150000
DTSTAMP:20260421T213428
CREATED:20260413T183830Z
LAST-MODIFIED:20260422T012519Z
UID:10001032-1790773200-1790780400@www.youresc.k12.oh.us
SUMMARY:Title III Coordinators
DESCRIPTION:Description\nTitle III Coordinators \nCategories: Administrators\, Literacy\, Behavior\, Special Education/Student Services
URL:https://www.youresc.k12.oh.us/event/title-iii-coordinators/
LOCATION:Event Center Rm. A (700 Winkler Dr.\, Wooster\, OH 44691\, US)
CATEGORIES:Admin,Behavior,Literacy,Student Services
END:VEVENT
BEGIN:VEVENT
DTSTART;TZID=America/New_York:20260925T083000
DTEND;TZID=America/New_York:20260925T150000
DTSTAMP:20260421T213428
CREATED:20260413T183830Z
LAST-MODIFIED:20260422T012519Z
UID:10001031-1790325000-1790348400@www.youresc.k12.oh.us
SUMMARY:Grassroots Math Network
DESCRIPTION:Description\nGrassroots Math Network\nCategories:\nMath
URL:https://www.youresc.k12.oh.us/event/grassroots-math-network-5/
LOCATION:Event Center Rm. B (700 Winkler Dr.\, Wooster\, OH 44691\, US)
CATEGORIES:Math
END:VEVENT
BEGIN:VEVENT
DTSTART;TZID=America/New_York:20260923T083000
DTEND;TZID=America/New_York:20260923T103000
DTSTAMP:20260421T213428
CREATED:20260413T183830Z
LAST-MODIFIED:20260422T012519Z
UID:10001030-1790152200-1790159400@www.youresc.k12.oh.us
SUMMARY:MS/HS Principal Meeting
DESCRIPTION:Description\nMS/HS Principal Meeting \nCategories: Administrators
URL:https://www.youresc.k12.oh.us/event/ms-hs-principal-meeting-4/
LOCATION:Event Center Rm. A (700 Winkler Dr.\, Wooster\, OH 44691\, US)
CATEGORIES:Admin
END:VEVENT
BEGIN:VEVENT
DTSTART;TZID=America/New_York:20260922T090000
DTEND;TZID=America/New_York:20260922T120000
DTSTAMP:20260421T213428
CREATED:20260413T183829Z
LAST-MODIFIED:20260422T012518Z
UID:10001029-1790067600-1790078400@www.youresc.k12.oh.us
SUMMARY:Instructional Coaching Network
DESCRIPTION:Description\nInstructional Coaching Network\nCategories: Administrators\, Literacy\, Fine Arts\, Math\, Behavior\, Special Education/Student Services
URL:https://www.youresc.k12.oh.us/event/instructional-coaching-network-6/
LOCATION:Event Center Rm. A (700 Winkler Dr.\, Wooster\, OH 44691\, US)
CATEGORIES:Admin,Behavior,Fine Arts,Literacy,Math,Student Services
END:VEVENT
BEGIN:VEVENT
DTSTART;TZID=America/New_York:20260921T073000
DTEND;TZID=America/New_York:20260921T083000
DTSTAMP:20260421T213428
CREATED:20260309T150044Z
LAST-MODIFIED:20260422T012518Z
UID:10000804-1789975800-1789979400@www.youresc.k12.oh.us
SUMMARY:TESC Board Meeting
DESCRIPTION:LS 11/10/25
URL:https://www.youresc.k12.oh.us/event/tesc-board-meeting-4/
LOCATION:Event Center Rm. A (700 Winkler Dr.\, Wooster\, OH 44691\, US)
END:VEVENT
BEGIN:VEVENT
DTSTART;TZID=America/New_York:20260918T090000
DTEND;TZID=America/New_York:20260918T110000
DTSTAMP:20260421T213428
CREATED:20260410T150511Z
LAST-MODIFIED:20260422T012518Z
UID:10001023-1789722000-1789729200@www.youresc.k12.oh.us
SUMMARY:Superintendent's Meeting
DESCRIPTION:Title\nSuperintendent’s Meeting \nInformation \nLocation\nEvent Center Room A \nTime\n9 a.m. – 11 a.m. \nRegistration \nAdditional Information \nCategories: Administrators
URL:https://www.youresc.k12.oh.us/event/superintendents-meeting-9/
LOCATION:Event Center Rm. A (700 Winkler Dr.\, Wooster\, OH 44691\, US)
CATEGORIES:Admin
END:VEVENT
BEGIN:VEVENT
DTSTART;TZID=America/New_York:20260917T090000
DTEND;TZID=America/New_York:20260917T110000
DTSTAMP:20260421T213428
CREATED:20260413T183829Z
LAST-MODIFIED:20260422T012518Z
UID:10001028-1789635600-1789642800@www.youresc.k12.oh.us
SUMMARY:Elementary Principal Meeting
DESCRIPTION:Description\nElementary Principal Meeting \nCategories: Administrators
URL:https://www.youresc.k12.oh.us/event/elementary-principal-meeting-3/
LOCATION:Event Center Rm. A (700 Winkler Dr.\, Wooster\, OH 44691\, US)
CATEGORIES:Admin
END:VEVENT
BEGIN:VEVENT
DTSTART;TZID=America/New_York:20260916T090000
DTEND;TZID=America/New_York:20260916T110000
DTSTAMP:20260421T213428
CREATED:20260410T150511Z
LAST-MODIFIED:20260422T012518Z
UID:10001022-1789549200-1789556400@www.youresc.k12.oh.us
SUMMARY:Curriculum Directors Meeting
DESCRIPTION:Description\nCurriculum director’s network meeting \nRegistration\nN/A \nContact\nBeth Gaubatz \nCategories: Administrators
URL:https://www.youresc.k12.oh.us/event/curriculum-directors-meeting-4/
LOCATION:Event Center Rm. A (700 Winkler Dr.\, Wooster\, OH 44691\, US)
CATEGORIES:Admin
END:VEVENT
BEGIN:VEVENT
DTSTART;TZID=America/New_York:20260910T083000
DTEND;TZID=America/New_York:20260910T100000
DTSTAMP:20260421T213428
CREATED:20260413T183829Z
LAST-MODIFIED:20260422T012518Z
UID:10001027-1789029000-1789034400@www.youresc.k12.oh.us
SUMMARY:School Psychologist Meeting
DESCRIPTION:Description\nSchool Psychologist Meeting \nCategories: Administrators\, Behavior\, Special Education/Student Services
URL:https://www.youresc.k12.oh.us/event/school-psychologist-meeting-4/
LOCATION:Event Center Rm. B (700 Winkler Dr.\, Wooster\, OH 44691\, US)
CATEGORIES:Admin,Behavior,Student Services
END:VEVENT
BEGIN:VEVENT
DTSTART;TZID=America/New_York:20260813T083000
DTEND;TZID=America/New_York:20260813T113000
DTSTAMP:20260421T213428
CREATED:20260309T150044Z
LAST-MODIFIED:20260422T012517Z
UID:10000803-1786609800-1786620600@www.youresc.k12.oh.us
SUMMARY:Parapro Testing
DESCRIPTION:Registration \nAdditional Information \nContact Information \nCategories: Administrators
URL:https://www.youresc.k12.oh.us/event/parapro-testing-6/
LOCATION:TESC Computer Lab (741 WInkler Dr.\, Wooster\, OH 44691\, US)
CATEGORIES:Admin
END:VEVENT
BEGIN:VEVENT
DTSTART;TZID=America/New_York:20260810T073000
DTEND;TZID=America/New_York:20260810T083000
DTSTAMP:20260421T213428
CREATED:20260309T150044Z
LAST-MODIFIED:20260422T012517Z
UID:10000802-1786347000-1786350600@www.youresc.k12.oh.us
SUMMARY:TESC Board Meeting
DESCRIPTION:LS\n11/10/25
URL:https://www.youresc.k12.oh.us/event/tesc-board-meeting-3/
LOCATION:Event Center Rm. A (700 Winkler Dr.\, Wooster\, OH 44691\, US)
END:VEVENT
BEGIN:VEVENT
DTSTART;TZID=America/New_York:20260807T083000
DTEND;TZID=America/New_York:20260807T150000
DTSTAMP:20260421T213428
CREATED:20260309T150044Z
LAST-MODIFIED:20260422T012517Z
UID:10000801-1786091400-1786114800@www.youresc.k12.oh.us
SUMMARY:STEAM CAMP grades 3rd-5th
DESCRIPTION:
URL:https://www.youresc.k12.oh.us/event/steam-camp-grades-3rd-5th-4/
LOCATION:Wayne County Schools Career Center – RAMTEC building
END:VEVENT
BEGIN:VEVENT
DTSTART;TZID=America/New_York:20260806T083000
DTEND;TZID=America/New_York:20260806T150000
DTSTAMP:20260421T213428
CREATED:20260309T150044Z
LAST-MODIFIED:20260422T012517Z
UID:10000800-1786005000-1786028400@www.youresc.k12.oh.us
SUMMARY:STEAM CAMP grades 3rd-5th
DESCRIPTION:
URL:https://www.youresc.k12.oh.us/event/steam-camp-grades-3rd-5th-3/
LOCATION:Wayne County Schools Career Center – RAMTEC building
END:VEVENT
BEGIN:VEVENT
DTSTART;TZID=America/New_York:20260805T090000
DTEND;TZID=America/New_York:20260805T120000
DTSTAMP:20260421T213428
CREATED:20260309T150043Z
LAST-MODIFIED:20260422T012517Z
UID:10000799-1785920400-1785931200@www.youresc.k12.oh.us
SUMMARY:Admin Kickoff
DESCRIPTION:
URL:https://www.youresc.k12.oh.us/event/admin-kickoff/
LOCATION:Triway High School (3145 Shreve Rd\, Wooster\, OH 44691\, United States)
END:VEVENT
BEGIN:VEVENT
DTSTART;TZID=America/New_York:20260804T083000
DTEND;TZID=America/New_York:20260804T150000
DTSTAMP:20260421T213428
CREATED:20260309T150043Z
LAST-MODIFIED:20260422T012517Z
UID:10000798-1785832200-1785855600@www.youresc.k12.oh.us
SUMMARY:STEAM CAMP grades 3rd-5th
DESCRIPTION:
URL:https://www.youresc.k12.oh.us/event/steam-camp-grades-3rd-5th-2/
LOCATION:Wayne County Schools Career Center – RAMTEC building
END:VEVENT
BEGIN:VEVENT
DTSTART;TZID=America/New_York:20260803T083000
DTEND;TZID=America/New_York:20260803T150000
DTSTAMP:20260421T213428
CREATED:20260309T150043Z
LAST-MODIFIED:20260422T012517Z
UID:10000797-1785745800-1785769200@www.youresc.k12.oh.us
SUMMARY:STEAM CAMP grades 3rd-5th
DESCRIPTION:
URL:https://www.youresc.k12.oh.us/event/steam-camp-grades-3rd-5th/
LOCATION:Wayne County Schools Career Center – RAMTEC building
END:VEVENT
BEGIN:VEVENT
DTSTART;TZID=America/New_York:20260731T083000
DTEND;TZID=America/New_York:20260731T150000
DTSTAMP:20260421T213428
CREATED:20260309T150043Z
LAST-MODIFIED:20260422T012517Z
UID:10000796-1785486600-1785510000@www.youresc.k12.oh.us
SUMMARY:STEAM CAMP grades 6th-8th
DESCRIPTION:
URL:https://www.youresc.k12.oh.us/event/steam-camp-grades-6th-8th-4/
LOCATION:Wayne County Schools Career Center – RAMTEC building
END:VEVENT
BEGIN:VEVENT
DTSTART;TZID=America/New_York:20260730T083000
DTEND;TZID=America/New_York:20260730T150000
DTSTAMP:20260421T213428
CREATED:20260309T150043Z
LAST-MODIFIED:20260422T012517Z
UID:10000795-1785400200-1785423600@www.youresc.k12.oh.us
SUMMARY:STEAM CAMP grades 6th-8th
DESCRIPTION:
URL:https://www.youresc.k12.oh.us/event/steam-camp-grades-6th-8th-3/
LOCATION:Wayne County Schools Career Center – RAMTEC building
END:VEVENT
BEGIN:VEVENT
DTSTART;TZID=America/New_York:20260728T083000
DTEND;TZID=America/New_York:20260728T150000
DTSTAMP:20260421T213428
CREATED:20260309T150042Z
LAST-MODIFIED:20260422T012517Z
UID:10000794-1785227400-1785250800@www.youresc.k12.oh.us
SUMMARY:STEAM CAMP grades 6th-8th
DESCRIPTION:
URL:https://www.youresc.k12.oh.us/event/steam-camp-grades-6th-8th-2/
LOCATION:Wayne County Schools Career Center – RAMTEC building
END:VEVENT
BEGIN:VEVENT
DTSTART;TZID=America/New_York:20260727T083000
DTEND;TZID=America/New_York:20260727T150000
DTSTAMP:20260421T213428
CREATED:20260309T150042Z
LAST-MODIFIED:20260422T012516Z
UID:10000793-1785141000-1785164400@www.youresc.k12.oh.us
SUMMARY:STEAM CAMP grades 6th-8th
DESCRIPTION:
URL:https://www.youresc.k12.oh.us/event/steam-camp-grades-6th-8th/
LOCATION:Wayne County Schools Career Center – RAMTEC building
END:VEVENT
BEGIN:VEVENT
DTSTART;TZID=America/New_York:20260716T083000
DTEND;TZID=America/New_York:20260716T113000
DTSTAMP:20260421T213428
CREATED:20260309T150042Z
LAST-MODIFIED:20260422T012516Z
UID:10000792-1784190600-1784201400@www.youresc.k12.oh.us
SUMMARY:Parapro Testing
DESCRIPTION:Registration \nAdditional Information \nContact Information \nCategories: Administrators
URL:https://www.youresc.k12.oh.us/event/parapro-testing-5/
LOCATION:TESC Computer Lab (741 WInkler Dr.\, Wooster\, OH 44691\, US)
CATEGORIES:Admin
END:VEVENT
BEGIN:VEVENT
DTSTART;VALUE=DATE:20260703
DTEND;VALUE=DATE:20260704
DTSTAMP:20260421T213428
CREATED:20260309T150042Z
LAST-MODIFIED:20260422T012516Z
UID:10000791-1783036800-1783123199@www.youresc.k12.oh.us
SUMMARY:OFFICE CLOSED - INDEPENDENCE DAY
DESCRIPTION:
URL:https://www.youresc.k12.oh.us/event/office-closed-independence-day/
END:VEVENT
BEGIN:VEVENT
DTSTART;VALUE=DATE:20260619
DTEND;VALUE=DATE:20260620
DTSTAMP:20260421T213428
CREATED:20260309T150042Z
LAST-MODIFIED:20260422T012516Z
UID:10000790-1781827200-1781913599@www.youresc.k12.oh.us
SUMMARY:JUNETEENTH - OFFICE CLOSED
DESCRIPTION:
URL:https://www.youresc.k12.oh.us/event/juneteenth-office-closed/
END:VEVENT
BEGIN:VEVENT
DTSTART;TZID=America/New_York:20260608T073000
DTEND;TZID=America/New_York:20260608T083000
DTSTAMP:20260421T213428
CREATED:20260309T150042Z
LAST-MODIFIED:20260422T012516Z
UID:10000789-1780903800-1780907400@www.youresc.k12.oh.us
SUMMARY:TESC Board Meeting
DESCRIPTION:LS 11/10/25
URL:https://www.youresc.k12.oh.us/event/tesc-board-meeting-2/
LOCATION:Event Center Rm. A (700 Winkler Dr.\, Wooster\, OH 44691\, US)
END:VEVENT
BEGIN:VEVENT
DTSTART;TZID=America/New_York:20260605T090000
DTEND;TZID=America/New_York:20260605T110000
DTSTAMP:20260421T213428
CREATED:20260309T150041Z
LAST-MODIFIED:20260422T012516Z
UID:10000788-1780650000-1780657200@www.youresc.k12.oh.us
SUMMARY:Superintendent's Meeting
DESCRIPTION:Title\nSuperintendent’s Meeting      \nInformation\nLocation\nEvent Center Room A\nTime\n9 a.m. – 11 a.m.\nRegistration\nAdditional Information\nCategories: Administrators
URL:https://www.youresc.k12.oh.us/event/superintendents-meeting-4/
LOCATION:Event Center Rm. A (700 Winkler Dr.\, Wooster\, OH 44691\, US)
CATEGORIES:Admin
END:VEVENT
BEGIN:VEVENT
DTSTART;VALUE=DATE:20260525
DTEND;VALUE=DATE:20260526
DTSTAMP:20260421T213428
CREATED:20260309T150041Z
LAST-MODIFIED:20260422T012516Z
UID:10000787-1779667200-1779753599@www.youresc.k12.oh.us
SUMMARY:MEMORIAL DAY - OFFICE CLOSED
DESCRIPTION:
URL:https://www.youresc.k12.oh.us/event/memorial-day-office-closed/
END:VEVENT
BEGIN:VEVENT
DTSTART;TZID=America/New_York:20260521T130000
DTEND;TZID=America/New_York:20260521T150000
DTSTAMP:20260421T213428
CREATED:20260401T153811Z
LAST-MODIFIED:20260422T012515Z
UID:10001020-1779368400-1779375600@www.youresc.k12.oh.us
SUMMARY:Math Plan for Administrators Part 2: Diagnostics
DESCRIPTION:Title\nMath Plan for Administrators \n Part 2: Diagnostics \nDescription\nWe will define diagnostics and explore how to use them\, discuss Legislative\nUpdates\, including the list of approved\ndiagnostics\, and share current district usage. \nLocation (address & room)\nTri-County Event Center\, Room A\n700 Winkler Dr.\nWooster\, OH\n44691 \nTime\n1:00-3:00 \nRegistration\nRegistration link is in this  informational flyer.  \nContact Information\nJill Kelly\, tesc_jkelly@tccsa.net\nKatie Kirkpatrick\, tesc_kkirkpatrick@tccsa.net \nCategories:Administrators\, Math\, Student Services/Special Ed
URL:https://www.youresc.k12.oh.us/event/math-plan-for-administrators-part-2-diagnostics/
LOCATION:Event Center Rm. A (700 Winkler Dr.\, Wooster\, OH 44691\, US)
CATEGORIES:Admin,Math,Student Services
END:VEVENT
BEGIN:VEVENT
DTSTART;TZID=America/New_York:20260521T083000
DTEND;TZID=America/New_York:20260521T113000
DTSTAMP:20260421T213428
CREATED:20260309T150041Z
LAST-MODIFIED:20260422T012515Z
UID:10000786-1779352200-1779363000@www.youresc.k12.oh.us
SUMMARY:Parapro Testing
DESCRIPTION:Registration \nAdditional Information \nContact Information \nCategories: Administrators
URL:https://www.youresc.k12.oh.us/event/parapro-testing-4/
LOCATION:TESC Computer Lab (741 WInkler Dr.\, Wooster\, OH 44691\, US)
CATEGORIES:Admin
END:VEVENT
BEGIN:VEVENT
DTSTART;TZID=America/New_York:20260518T073000
DTEND;TZID=America/New_York:20260518T083000
DTSTAMP:20260421T213428
CREATED:20260309T150041Z
LAST-MODIFIED:20260422T012515Z
UID:10000785-1779089400-1779093000@www.youresc.k12.oh.us
SUMMARY:TESC Board Meeting
DESCRIPTION:LS 11/10/25
URL:https://www.youresc.k12.oh.us/event/tesc-board-meeting/
LOCATION:Event Center Rm. A (700 Winkler Dr.\, Wooster\, OH 44691\, US)
END:VEVENT
END:VCALENDAR