BEGIN:VCALENDAR
VERSION:2.0
PRODID:-//Tri-County Educational Service Center - ECPv6.15.20//NONSGML v1.0//EN
CALSCALE:GREGORIAN
METHOD:PUBLISH
X-WR-CALNAME:Tri-County Educational Service Center
X-ORIGINAL-URL:https://www.youresc.k12.oh.us
X-WR-CALDESC:Events for Tri-County Educational Service Center
REFRESH-INTERVAL;VALUE=DURATION:PT1H
X-Robots-Tag:noindex
X-PUBLISHED-TTL:PT1H
BEGIN:VTIMEZONE
TZID:America/New_York
BEGIN:DAYLIGHT
TZOFFSETFROM:-0500
TZOFFSETTO:-0400
TZNAME:EDT
DTSTART:20240310T070000
END:DAYLIGHT
BEGIN:STANDARD
TZOFFSETFROM:-0400
TZOFFSETTO:-0500
TZNAME:EST
DTSTART:20241103T060000
END:STANDARD
BEGIN:DAYLIGHT
TZOFFSETFROM:-0500
TZOFFSETTO:-0400
TZNAME:EDT
DTSTART:20250309T070000
END:DAYLIGHT
BEGIN:STANDARD
TZOFFSETFROM:-0400
TZOFFSETTO:-0500
TZNAME:EST
DTSTART:20251102T060000
END:STANDARD
BEGIN:DAYLIGHT
TZOFFSETFROM:-0500
TZOFFSETTO:-0400
TZNAME:EDT
DTSTART:20260308T070000
END:DAYLIGHT
BEGIN:STANDARD
TZOFFSETFROM:-0400
TZOFFSETTO:-0500
TZNAME:EST
DTSTART:20261101T060000
END:STANDARD
END:VTIMEZONE
BEGIN:VEVENT
DTSTART;TZID=America/New_York:20250516T080000
DTEND;TZID=America/New_York:20250516T143000
DTSTAMP:20260422T025540
CREATED:20260309T150557Z
LAST-MODIFIED:20260417T210429Z
UID:10000853-1747382400-1747405800@www.youresc.k12.oh.us
SUMMARY:Math Grassroots Network
DESCRIPTION:Title\nMath Grassroots Network – Mini Math Conference \nDescription\nThis special meeting of the Grassroots Network will feature local teachers providing sessions for their colleagues. Join us for a fun and interactive day\, focusing on the topics that are most important to classroom educators! \nThe Tri-County Math Grassroots Network was formed to provide an opportunity for all math teachers (K-12) in our area to collaborate and learn. The purpose is to promote high quality math instruction for all learners. We follow an adaptive schedule for each meeting that includes time to engage in math activities\, discuss a book of interest\, explore an interesting article\, podcast\, or video\, share ideas\, and debate relevant topics. \nRegistration\nPlease use this link to register. \nContact Information\nJill Kelly\ntesc_jkelly@tccsa.net \nCategories:  Math
URL:https://www.youresc.k12.oh.us/event/math-grassroots-network-3/
LOCATION:Event Center Rm. A; Event Center Rm. B; Event Center Small Conference Room
CATEGORIES:Math
END:VEVENT
END:VCALENDAR