BEGIN:VCALENDAR
VERSION:2.0
PRODID:-//Tri-County Educational Service Center - ECPv6.15.20//NONSGML v1.0//EN
CALSCALE:GREGORIAN
METHOD:PUBLISH
X-WR-CALNAME:Tri-County Educational Service Center
X-ORIGINAL-URL:https://www.youresc.k12.oh.us
X-WR-CALDESC:Events for Tri-County Educational Service Center
REFRESH-INTERVAL;VALUE=DURATION:PT1H
X-Robots-Tag:noindex
X-PUBLISHED-TTL:PT1H
BEGIN:VTIMEZONE
TZID:America/New_York
BEGIN:DAYLIGHT
TZOFFSETFROM:-0500
TZOFFSETTO:-0400
TZNAME:EDT
DTSTART:20240310T070000
END:DAYLIGHT
BEGIN:STANDARD
TZOFFSETFROM:-0400
TZOFFSETTO:-0500
TZNAME:EST
DTSTART:20241103T060000
END:STANDARD
BEGIN:DAYLIGHT
TZOFFSETFROM:-0500
TZOFFSETTO:-0400
TZNAME:EDT
DTSTART:20250309T070000
END:DAYLIGHT
BEGIN:STANDARD
TZOFFSETFROM:-0400
TZOFFSETTO:-0500
TZNAME:EST
DTSTART:20251102T060000
END:STANDARD
BEGIN:DAYLIGHT
TZOFFSETFROM:-0500
TZOFFSETTO:-0400
TZNAME:EDT
DTSTART:20260308T070000
END:DAYLIGHT
BEGIN:STANDARD
TZOFFSETFROM:-0400
TZOFFSETTO:-0500
TZNAME:EST
DTSTART:20261101T060000
END:STANDARD
END:VTIMEZONE
BEGIN:VEVENT
DTSTART;TZID=America/New_York:20250514T080000
DTEND;TZID=America/New_York:20250514T140000
DTSTAMP:20260422T025539
CREATED:20260309T150557Z
LAST-MODIFIED:20260417T210429Z
UID:10000852-1747209600-1747231200@www.youresc.k12.oh.us
SUMMARY:High School Math PD
DESCRIPTION:Description\nHigh School Specific Math Professional Learning\nLink to Flier \nRegistration\nPlease use this link to register \nContact\nJill Kelly\ntesc_jkelly@tccsa.net \nCategories: Administrators\, Math
URL:https://www.youresc.k12.oh.us/event/high-school-math-pd/
LOCATION:Event Center Rm. A (700 Winkler Dr.\, Wooster\, OH 44691\, US)
CATEGORIES:Admin,Math
END:VEVENT
END:VCALENDAR