BEGIN:VCALENDAR
VERSION:2.0
PRODID:-//Tri-County Educational Service Center - ECPv6.15.20//NONSGML v1.0//EN
CALSCALE:GREGORIAN
METHOD:PUBLISH
X-ORIGINAL-URL:https://www.youresc.k12.oh.us
X-WR-CALDESC:Events for Tri-County Educational Service Center
REFRESH-INTERVAL;VALUE=DURATION:PT1H
X-Robots-Tag:noindex
X-PUBLISHED-TTL:PT1H
BEGIN:VTIMEZONE
TZID:America/New_York
BEGIN:DAYLIGHT
TZOFFSETFROM:-0500
TZOFFSETTO:-0400
TZNAME:EDT
DTSTART:20240310T070000
END:DAYLIGHT
BEGIN:STANDARD
TZOFFSETFROM:-0400
TZOFFSETTO:-0500
TZNAME:EST
DTSTART:20241103T060000
END:STANDARD
BEGIN:DAYLIGHT
TZOFFSETFROM:-0500
TZOFFSETTO:-0400
TZNAME:EDT
DTSTART:20250309T070000
END:DAYLIGHT
BEGIN:STANDARD
TZOFFSETFROM:-0400
TZOFFSETTO:-0500
TZNAME:EST
DTSTART:20251102T060000
END:STANDARD
BEGIN:DAYLIGHT
TZOFFSETFROM:-0500
TZOFFSETTO:-0400
TZNAME:EDT
DTSTART:20260308T070000
END:DAYLIGHT
BEGIN:STANDARD
TZOFFSETFROM:-0400
TZOFFSETTO:-0500
TZNAME:EST
DTSTART:20261101T060000
END:STANDARD
END:VTIMEZONE
BEGIN:VEVENT
DTSTART;TZID=America/New_York:20250505T080000
DTEND;TZID=America/New_York:20250505T160000
DTSTAMP:20260422T025646
CREATED:20260309T150555Z
LAST-MODIFIED:20260417T210428Z
UID:10000845-1746432000-1746460800@www.youresc.k12.oh.us
SUMMARY:Wooster City Schools Math
DESCRIPTION:Description\nWooster City Schools Math \nRegistration \nContact\nMike Lipnos \nCategories: Math \n________________________________________________________________________________\nMicrosoft Teams Need help? \nJoin the meeting now \nMeeting ID: 270 032 922 625\nPasscode: JC3jt2tN\n________________________________\nFor organizers: Meeting options \n________________________________________________________________________________
URL:https://www.youresc.k12.oh.us/event/wooster-city-schools-math/
LOCATION:Event Center Small Conference Room (700 Winkler Dr.\, Wooster\, OH 44691\, US)
CATEGORIES:Math
END:VEVENT
END:VCALENDAR