BEGIN:VCALENDAR
VERSION:2.0
PRODID:-//Tri-County Educational Service Center - ECPv6.15.20//NONSGML v1.0//EN
CALSCALE:GREGORIAN
METHOD:PUBLISH
X-WR-CALNAME:Tri-County Educational Service Center
X-ORIGINAL-URL:https://www.youresc.k12.oh.us
X-WR-CALDESC:Events for Tri-County Educational Service Center
REFRESH-INTERVAL;VALUE=DURATION:PT1H
X-Robots-Tag:noindex
X-PUBLISHED-TTL:PT1H
BEGIN:VTIMEZONE
TZID:America/New_York
BEGIN:DAYLIGHT
TZOFFSETFROM:-0500
TZOFFSETTO:-0400
TZNAME:EDT
DTSTART:20240310T070000
END:DAYLIGHT
BEGIN:STANDARD
TZOFFSETFROM:-0400
TZOFFSETTO:-0500
TZNAME:EST
DTSTART:20241103T060000
END:STANDARD
BEGIN:DAYLIGHT
TZOFFSETFROM:-0500
TZOFFSETTO:-0400
TZNAME:EDT
DTSTART:20250309T070000
END:DAYLIGHT
BEGIN:STANDARD
TZOFFSETFROM:-0400
TZOFFSETTO:-0500
TZNAME:EST
DTSTART:20251102T060000
END:STANDARD
BEGIN:DAYLIGHT
TZOFFSETFROM:-0500
TZOFFSETTO:-0400
TZNAME:EDT
DTSTART:20260308T070000
END:DAYLIGHT
BEGIN:STANDARD
TZOFFSETFROM:-0400
TZOFFSETTO:-0500
TZNAME:EST
DTSTART:20261101T060000
END:STANDARD
END:VTIMEZONE
BEGIN:VEVENT
DTSTART;TZID=America/New_York:20250424T080000
DTEND;TZID=America/New_York:20250424T150000
DTSTAMP:20260422T042555
CREATED:20260309T150554Z
LAST-MODIFIED:20260417T210427Z
UID:10000840-1745481600-1745506800@www.youresc.k12.oh.us
SUMMARY:K-5 Mathematical Standards Deep Dive
DESCRIPTION:Title\nK-5 Mathematical Standards Deep Dive \nDescription\nAn opportunity to explore the K-5 Ohio Learning Standards for Mathematics in-depth as well as gain insights into the learning progression across grade levels. Bring your math curriculum to further explore how it aligns with Ohio’s Learning Standards. \nLocation (address & room)\nTri-County Education Service Center\nEvent Center\, Room A\n700 Winkler Dr. Wooster\, OH \nTime\n9:00 AM – 3:00 PM \nRegistration\nRegistration Link \nAdditional Information \nContact Information\nKatie Kirkpatrick\ntesc_kkirkpatrick@tccsa.net \nCategories: Math
URL:https://www.youresc.k12.oh.us/event/k-5-mathematical-standards-deep-dive/
LOCATION:Event Center Rm. A (700 Winkler Dr.\, Wooster\, OH 44691\, US)
CATEGORIES:Math
END:VEVENT
END:VCALENDAR