BEGIN:VCALENDAR
VERSION:2.0
PRODID:-//Tri-County Educational Service Center - ECPv6.15.20//NONSGML v1.0//EN
CALSCALE:GREGORIAN
METHOD:PUBLISH
X-ORIGINAL-URL:https://www.youresc.k12.oh.us
X-WR-CALDESC:Events for Tri-County Educational Service Center
REFRESH-INTERVAL;VALUE=DURATION:PT1H
X-Robots-Tag:noindex
X-PUBLISHED-TTL:PT1H
BEGIN:VTIMEZONE
TZID:America/New_York
BEGIN:DAYLIGHT
TZOFFSETFROM:-0500
TZOFFSETTO:-0400
TZNAME:EDT
DTSTART:20250309T070000
END:DAYLIGHT
BEGIN:STANDARD
TZOFFSETFROM:-0400
TZOFFSETTO:-0500
TZNAME:EST
DTSTART:20251102T060000
END:STANDARD
BEGIN:DAYLIGHT
TZOFFSETFROM:-0500
TZOFFSETTO:-0400
TZNAME:EDT
DTSTART:20260308T070000
END:DAYLIGHT
BEGIN:STANDARD
TZOFFSETFROM:-0400
TZOFFSETTO:-0500
TZNAME:EST
DTSTART:20261101T060000
END:STANDARD
BEGIN:DAYLIGHT
TZOFFSETFROM:-0500
TZOFFSETTO:-0400
TZNAME:EDT
DTSTART:20270314T070000
END:DAYLIGHT
BEGIN:STANDARD
TZOFFSETFROM:-0400
TZOFFSETTO:-0500
TZNAME:EST
DTSTART:20271107T060000
END:STANDARD
END:VTIMEZONE
BEGIN:VEVENT
DTSTART;TZID=America/New_York:20261001T080000
DTEND;TZID=America/New_York:20261001T140000
DTSTAMP:20260421T161131
CREATED:20260413T183830Z
LAST-MODIFIED:20260421T192305Z
UID:10001033-1790841600-1790863200@www.youresc.k12.oh.us
SUMMARY:High School Math Network
DESCRIPTION:Description:\nHigh School Math Network\nCategories: Math
URL:https://www.youresc.k12.oh.us/event/high-school-math-network/
LOCATION:Event Center Rm. B (700 Winkler Dr.\, Wooster\, OH 44691\, US)
CATEGORIES:Math
END:VEVENT
BEGIN:VEVENT
DTSTART;TZID=America/New_York:20261002T083000
DTEND;TZID=America/New_York:20261002T150000
DTSTAMP:20260421T161131
CREATED:20260413T183830Z
LAST-MODIFIED:20260421T192305Z
UID:10001034-1790929800-1790953200@www.youresc.k12.oh.us
SUMMARY:Grassroots Math Network
DESCRIPTION:Description\nGrassroots Math Network\nCategories:\nMath
URL:https://www.youresc.k12.oh.us/event/grassroots-math-network-6/
LOCATION:Event Center Rm. B (700 Winkler Dr.\, Wooster\, OH 44691\, US)
CATEGORIES:Math
END:VEVENT
BEGIN:VEVENT
DTSTART;TZID=America/New_York:20261013T130000
DTEND;TZID=America/New_York:20261013T150000
DTSTAMP:20260421T161131
CREATED:20260416T165433Z
LAST-MODIFIED:20260421T192306Z
UID:10001072-1791896400-1791903600@www.youresc.k12.oh.us
SUMMARY:SLPs - Virtual
DESCRIPTION:Description\nSLPs – Virtual \nCategories: Administrators\, Literacy\, Fine Arts\, Math\, Behavior\, Special Education/Student Services\, Support Staff\, Preschool
URL:https://www.youresc.k12.oh.us/event/slps-virtual/
CATEGORIES:Admin,Behavior,Fine Arts,Literacy,Math,Preschool,Student Services,Support Staff
END:VEVENT
END:VCALENDAR