BEGIN:VCALENDAR
VERSION:2.0
PRODID:-//Tri-County Educational Service Center - ECPv6.15.20//NONSGML v1.0//EN
CALSCALE:GREGORIAN
METHOD:PUBLISH
X-WR-CALNAME:Tri-County Educational Service Center
X-ORIGINAL-URL:https://www.youresc.k12.oh.us
X-WR-CALDESC:Events for Tri-County Educational Service Center
REFRESH-INTERVAL;VALUE=DURATION:PT1H
X-Robots-Tag:noindex
X-PUBLISHED-TTL:PT1H
BEGIN:VTIMEZONE
TZID:America/New_York
BEGIN:DAYLIGHT
TZOFFSETFROM:-0500
TZOFFSETTO:-0400
TZNAME:EDT
DTSTART:20250309T070000
END:DAYLIGHT
BEGIN:STANDARD
TZOFFSETFROM:-0400
TZOFFSETTO:-0500
TZNAME:EST
DTSTART:20251102T060000
END:STANDARD
BEGIN:DAYLIGHT
TZOFFSETFROM:-0500
TZOFFSETTO:-0400
TZNAME:EDT
DTSTART:20260308T070000
END:DAYLIGHT
BEGIN:STANDARD
TZOFFSETFROM:-0400
TZOFFSETTO:-0500
TZNAME:EST
DTSTART:20261101T060000
END:STANDARD
BEGIN:DAYLIGHT
TZOFFSETFROM:-0500
TZOFFSETTO:-0400
TZNAME:EDT
DTSTART:20270314T070000
END:DAYLIGHT
BEGIN:STANDARD
TZOFFSETFROM:-0400
TZOFFSETTO:-0500
TZNAME:EST
DTSTART:20271107T060000
END:STANDARD
BEGIN:DAYLIGHT
TZOFFSETFROM:-0500
TZOFFSETTO:-0400
TZNAME:EDT
DTSTART:20280312T070000
END:DAYLIGHT
BEGIN:STANDARD
TZOFFSETFROM:-0400
TZOFFSETTO:-0500
TZNAME:EST
DTSTART:20281105T060000
END:STANDARD
END:VTIMEZONE
BEGIN:VEVENT
DTSTART;TZID=America/New_York:20260127T180000
DTEND;TZID=America/New_York:20260127T210000
DTSTAMP:20260422T015051
CREATED:20260309T150625Z
LAST-MODIFIED:20260417T210445Z
UID:10000985-1769536800-1769547600@www.youresc.k12.oh.us
SUMMARY:*MOVED TO SNOW DATE THU* Ashland County Spelling Bee
DESCRIPTION:Ashland County Spelling Bee \nLocation (address & room)\nHeartland Technical Education Center (formerly ACWHCC)\n1763 St. Rt. 60\nAshland\, OH 44805 \nTime\n6:00 PM \nContact Information\nJennifer Marrah tesc_jmarrah@tccsa.net or Debbie Stoler tesc_stoler@tccsa.net \nCategories:Administrators\, Literacy\, Fine Arts\, Student Services/Special Ed
URL:https://www.youresc.k12.oh.us/event/moved-to-snow-date-thu-ashland-county-spelling-bee/
CATEGORIES:Admin,Fine Arts,Literacy,Student Services
END:VEVENT
BEGIN:VEVENT
DTSTART;TZID=America/New_York:20260129T180000
DTEND;TZID=America/New_York:20260129T210000
DTSTAMP:20260422T015051
CREATED:20260309T150626Z
LAST-MODIFIED:20260417T210445Z
UID:10000987-1769709600-1769720400@www.youresc.k12.oh.us
SUMMARY:Ashland County Spelling Bee Snow Date
DESCRIPTION:Ashland County Spelling Bee \nLocation (address & room)\nHeartland Technical Education Center (formerly ACWHCC)\n1763 St. Rt. 60\nAshland\, OH 44805 \nTime\n6:00 PM \nContact Information\nJennifer Marrah tesc_jmarrah@tccsa.net or Debbie Stoler tesc_stoler@tccsa.net \nCategories:Administrators\, Literacy\, Fine Arts\, Student Services/Special Ed
URL:https://www.youresc.k12.oh.us/event/ashland-county-spelling-bee-snow-date/
CATEGORIES:Admin,Fine Arts,Literacy,Student Services
END:VEVENT
BEGIN:VEVENT
DTSTART;TZID=America/New_York:20260203T110000
DTEND;TZID=America/New_York:20260203T130000
DTSTAMP:20260422T015051
CREATED:20260309T150626Z
LAST-MODIFIED:20260417T210446Z
UID:10000991-1770116400-1770123600@www.youresc.k12.oh.us
SUMMARY:WCAL Athletic Director's Meeting
DESCRIPTION:Title\nAD Meeting \nInformation \nLocation\nEvent Center Room A \nTime\n11 a.m. \nRegistration \nAdditional Information\nAnita Jorney-Gifford\nnrws_ajgifford@tccsa.net \nCategories: Administrators\, Literacy\, Fine Arts\, Math\, Behavior\, Student Services/Special Ed \n________________________________________________________________________________\nMicrosoft Teams Need help? \nJoin the meeting now \nMeeting ID: 211 007 511 421 3\nPasscode: vB3Z4Gk2\n________________________________\nFor organizers: Meeting options \n________________________________________________________________________________
URL:https://www.youresc.k12.oh.us/event/wcal-athletic-directors-meeting-9/
LOCATION:Event Center Rm. B (700 Winkler Dr.\, Wooster\, OH 44691\, US)
CATEGORIES:Admin,Behavior,Fine Arts,Literacy,Math,Student Services
END:VEVENT
BEGIN:VEVENT
DTSTART;TZID=America/New_York:20260206T090000
DTEND;TZID=America/New_York:20260206T120000
DTSTAMP:20260422T015051
CREATED:20260309T150627Z
LAST-MODIFIED:20260417T210446Z
UID:10000993-1770368400-1770379200@www.youresc.k12.oh.us
SUMMARY:Section 504 Training (REGISTRATION CLOSED)
DESCRIPTION:Title\n504 Training (Snow Day from 2/6) \nInformation\n504 PD – Training \nLocation\nTri-County ESC Event Center 700 Winkler Drive \nTime\n9:00 to 11:00 \nRegistration\nREGISTRATION CLOSED* \nAdditional Information\nBeth Gaubatz/ Ashley Millsaps \nCategories: Administrators\, Literacy\, Behavior\, Student Services/Special Ed
URL:https://www.youresc.k12.oh.us/event/section-504-training-registration-closed/
LOCATION:Event Center Room B
CATEGORIES:Admin,Behavior,Literacy,Student Services
END:VEVENT
BEGIN:VEVENT
DTSTART;TZID=America/New_York:20260224T090000
DTEND;TZID=America/New_York:20260224T120000
DTSTAMP:20260422T015051
CREATED:20260309T150631Z
LAST-MODIFIED:20260417T210447Z
UID:10001002-1771923600-1771934400@www.youresc.k12.oh.us
SUMMARY:Instructional Coaching Network
DESCRIPTION:Title\nInstructional Coaching Network\nInformation \nLocation\nEvent Center Room A \nTime\n9 a.m. – 12 p.m. \nRegistration \nAdditional Information \nCategories: Administrators\, Literacy\, Fine Arts\, Math\, Behavior\, Student Services/Special Ed \n________________________________________________________________________________\nMicrosoft Teams Need help? \nJoin the meeting now \nMeeting ID: 210 217 363 239\nPasscode: WD7rr9rY\n________________________________\nFor organizers: Meeting options \n________________________________________________________________________________
URL:https://www.youresc.k12.oh.us/event/instructional-coaching-network-5/
LOCATION:Event Center Rm. A (700 Winkler Dr.\, Wooster\, OH 44691\, US)
CATEGORIES:Admin,Behavior,Fine Arts,Literacy,Math,Student Services
END:VEVENT
BEGIN:VEVENT
DTSTART;TZID=America/New_York:20260303T110000
DTEND;TZID=America/New_York:20260303T130000
DTSTAMP:20260422T015051
CREATED:20260309T150632Z
LAST-MODIFIED:20260417T210448Z
UID:10001008-1772535600-1772542800@www.youresc.k12.oh.us
SUMMARY:WCAL Athletic Director's Meeting
DESCRIPTION:Title\nAD Meeting \nInformation \nLocation\nEvent Center Room A \nTime\n11 a.m. \nRegistration \nAdditional Information\nAnita Jorney-Gifford\nnrws_ajgifford@tccsa.net \nCategories: Administrators\, Literacy\, Fine Arts\, Math\, Behavior\, Student Services/Special Ed \n________________________________________________________________________________\nMicrosoft Teams Need help? \nJoin the meeting now \nMeeting ID: 211 007 511 421 3\nPasscode: vB3Z4Gk2\n________________________________\nFor organizers: Meeting options \n________________________________________________________________________________
URL:https://www.youresc.k12.oh.us/event/wcal-athletic-directors-meeting-10/
LOCATION:Event Center Rm. B (700 Winkler Dr.\, Wooster\, OH 44691\, US)
CATEGORIES:Admin,Behavior,Fine Arts,Literacy,Math,Student Services
END:VEVENT
BEGIN:VEVENT
DTSTART;TZID=America/New_York:20260313T090000
DTEND;TZID=America/New_York:20260313T120000
DTSTAMP:20260422T015051
CREATED:20260309T150031Z
LAST-MODIFIED:20260417T210449Z
UID:10000758-1773392400-1773403200@www.youresc.k12.oh.us
SUMMARY:Section 504 Training
DESCRIPTION:Title\n504 Training \nInformation\nBeth Gaubatz/Ashley Millsaps \nLocation\nTri-County ESC Event Center 700 Winkler Drive \nTime\n9:00 to 11:00 \nRegistration\nClick Link To Register \nAdditional Information\nDetails – Flyer (CLICK) \nCategories: Administrators\, Literacy\, Behavior\, Student Services/Special Ed
URL:https://www.youresc.k12.oh.us/event/section-504-training/
LOCATION:Event Center Rm. B (700 Winkler Dr.\, Wooster\, OH 44691\, US)
CATEGORIES:Admin,Behavior,Literacy,Student Services
END:VEVENT
BEGIN:VEVENT
DTSTART;TZID=America/New_York:20260407T110000
DTEND;TZID=America/New_York:20260407T130000
DTSTAMP:20260422T015051
CREATED:20260309T150032Z
LAST-MODIFIED:20260417T210450Z
UID:10000765-1775559600-1775566800@www.youresc.k12.oh.us
SUMMARY:WCAL Athletic Director's Meeting
DESCRIPTION:Title\nAD Meeting \nInformation \nLocation\nEvent Center Room A \nTime\n11 a.m. \nRegistration \nAdditional Information\nAnita Jorney-Gifford\nnrws_ajgifford@tccsa.net \nCategories: Administrators\, Literacy\, Fine Arts\, Math\, Behavior\, Student Services/Special Ed \n________________________________________________________________________________\nMicrosoft Teams Need help? \nJoin the meeting now \nMeeting ID: 211 007 511 421 3\nPasscode: vB3Z4Gk2\n________________________________\nFor organizers: Meeting options \n________________________________________________________________________________
URL:https://www.youresc.k12.oh.us/event/wcal-athletic-directors-meeting/
LOCATION:Event Center Rm. A (700 Winkler Dr.\, Wooster\, OH 44691\, US)
CATEGORIES:Admin,Behavior,Fine Arts,Literacy,Math,Student Services
END:VEVENT
BEGIN:VEVENT
DTSTART;TZID=America/New_York:20260408T083000
DTEND;TZID=America/New_York:20260408T143000
DTSTAMP:20260422T015051
CREATED:20260309T150033Z
LAST-MODIFIED:20260417T210450Z
UID:10000767-1775637000-1775658600@www.youresc.k12.oh.us
SUMMARY:Celebrating America's 250th & Teaching the American Revolution In The Classroom
DESCRIPTION:Title\nCelebrating America’s 250th & Teaching The American Revolution In The Classroom \nInformation\nSee Flyer for More Details: CLICK HERE \nLocation\nWayne County Historical Society \nTime\n8:30 AM to 2:30 PM \nRegistration\nTo Register: RSVP to jeanderson1710@gmail.com\nSpace is limited. \nAdditional Information\nInformation for elementary\, middle\, and high school teachers. \nCategories: Administrators\, Literacy\, Fine Arts\, Math\, Behavior\, Student Services/Special Ed
URL:https://www.youresc.k12.oh.us/event/celebrating-americas-250th-teaching-the-american-revolution-in-the-classroom/
LOCATION:Wayne County Historical Society of Ohio (546 E Bowman St\, Wooster\, OH 44691\, United States)
CATEGORIES:Admin,Behavior,Fine Arts,Literacy,Math,Student Services
END:VEVENT
BEGIN:VEVENT
DTSTART;TZID=America/New_York:20260411T090000
DTEND;TZID=America/New_York:20260411T120000
DTSTAMP:20260422T015051
CREATED:20260309T150034Z
LAST-MODIFIED:20260417T210451Z
UID:10000768-1775898000-1775908800@www.youresc.k12.oh.us
SUMMARY:Tri-County Job Fair
DESCRIPTION:Description\nCertified/Classified job openings in Ashland\, Holmes\, Wayne County schools \nRegistration\nFlyer with additional information on ESC employment page https://www.youresc.k12.oh.us/employment/ \nContact\nBrett Lanz\ntesc_blanz@tccsa.net \nCategories: Administrators\, Literacy\, Fine Arts\, Math\, Behavior\, Special Education/Student Services\, Support Staff\, Preschool
URL:https://www.youresc.k12.oh.us/event/tri-county-job-fair/
LOCATION:Triway High School (3205 Shreve Rd\, Wooster\, OH 44691\, United States)
CATEGORIES:Admin,Behavior,Fine Arts,Literacy,Math,Preschool,Student Services,Support Staff
END:VEVENT
BEGIN:VEVENT
DTSTART;TZID=America/New_York:20260414T130000
DTEND;TZID=America/New_York:20260414T150000
DTSTAMP:20260422T015051
CREATED:20260309T150036Z
LAST-MODIFIED:20260417T210452Z
UID:10000771-1776171600-1776178800@www.youresc.k12.oh.us
SUMMARY:Speech Therapist Meetings (Goal Writing in Action w/ Christina Tindall\, MS\, CCC-SLP)
DESCRIPTION:Title\nSpeech Therapist Meeting \nInformation\nTopic: Goal Writing in Action: How to Identify Observable Student Behaviors to Create Compliant IEP Goals\nPresenter: Christina Tindall\, MS\, CCC-SLP\nLearn how to develop functional\, measurable IEP goals using the ACTION framework. This session will help SLPs improve compliance and clarity in their goal writing through observable behaviors and dynamic assessment techniques. \nLocation\nVirtual \nTime\n1 p.m. – 3 p.m. \nRegistration\nhttps://docs.google.com/forms/d/e/1FAIpQLScvmjT9IlVjXSsCSHyIzwNrtgAGntkI_EwyNUQ1YfZMoK2iqQ/viewform?usp=header\nAdditional Information \nCategories: Administrators\, Literacy\, Behavior\, Student Services/Special Ed
URL:https://www.youresc.k12.oh.us/event/speech-therapist-meetings-goal-writing-in-action-w-christina-tindall-ms-ccc-slp/
CATEGORIES:Admin,Behavior,Literacy,Student Services
END:VEVENT
BEGIN:VEVENT
DTSTART;TZID=America/New_York:20260505T090000
DTEND;TZID=America/New_York:20260505T120000
DTSTAMP:20260422T015051
CREATED:20260309T150039Z
LAST-MODIFIED:20260422T053802Z
UID:10000777-1777971600-1777982400@www.youresc.k12.oh.us
SUMMARY:Instructional Coaching Network
DESCRIPTION:Title\nInstructional Coaching Network\nInformation \nLocation\nEvent Center Room A \nTime\n9 a.m. – 12 p.m. \nRegistration \nAdditional Information \nCategories: Administrators\, Literacy\, Fine Arts\, Math\, Behavior\, Student Services/Special Ed \n________________________________________________________________________________\nMicrosoft Teams Need help? \nJoin the meeting now \nMeeting ID: 261 193 958 965\nPasscode: Rk9ZX3up\n________________________________\nFor organizers: Meeting options \n________________________________________________________________________________
URL:https://www.youresc.k12.oh.us/event/instructional-coaching-network/
LOCATION:Event Center Rm. A (700 Winkler Dr.\, Wooster\, OH 44691\, US)
CATEGORIES:Admin,Behavior,Fine Arts,Literacy,Math,Student Services
END:VEVENT
BEGIN:VEVENT
DTSTART;TZID=America/New_York:20260505T110000
DTEND;TZID=America/New_York:20260505T130000
DTSTAMP:20260422T015051
CREATED:20260309T150039Z
LAST-MODIFIED:20260422T053802Z
UID:10000778-1777978800-1777986000@www.youresc.k12.oh.us
SUMMARY:WCAL Athletic Director's Meeting
DESCRIPTION:Title\nAD Meeting \nInformation \nLocation\nEvent Center Room A \nTime\n11 a.m. \nRegistration \nAdditional Information\nAnita Jorney-Gifford\nnrws_ajgifford@tccsa.net \nCategories: Administrators\, Literacy\, Fine Arts\, Math\, Behavior\, Student Services/Special Ed \n________________________________________________________________________________\nMicrosoft Teams Need help? \nJoin the meeting now \nMeeting ID: 211 007 511 421 3\nPasscode: vB3Z4Gk2\n________________________________\nFor organizers: Meeting options \n________________________________________________________________________________
URL:https://www.youresc.k12.oh.us/event/wcal-athletic-directors-meeting-2/
LOCATION:Event Center Rm. A (700 Winkler Dr.\, Wooster\, OH 44691\, US)
CATEGORIES:Admin,Behavior,Fine Arts,Literacy,Math,Student Services
END:VEVENT
BEGIN:VEVENT
DTSTART;TZID=America/New_York:20260506T130000
DTEND;TZID=America/New_York:20260506T150000
DTSTAMP:20260422T015051
CREATED:20260309T150040Z
LAST-MODIFIED:20260422T053803Z
UID:10000780-1778072400-1778079600@www.youresc.k12.oh.us
SUMMARY:Title III (EL) Consortium Coordinator Meeting
DESCRIPTION:Title\nTitle III (EL) Consortium Coordinator Meeting \nInformation \nLocation\nEvent Center Room B \nTime\n1:00-3:00\nRegistration \nAdditional Information \nCategories: Administrators\, Literacy\, Behavior\, Student Services/Special Ed \n________________________________________________________________________________\nMicrosoft Teams Need help? \nJoin the meeting now \nMeeting ID: 242 084 536 38\nPasscode: nn9QM2tn\n________________________________\nFor organizers: Meeting options \n________________________________________________________________________________
URL:https://www.youresc.k12.oh.us/event/title-iii-el-consortium-coordinator-meeting/
LOCATION:Event Center Rm. A (700 Winkler Dr.\, Wooster\, OH 44691\, US)
CATEGORIES:Admin,Behavior,Literacy,Student Services
END:VEVENT
BEGIN:VEVENT
DTSTART;TZID=America/New_York:20260512T080000
DTEND;TZID=America/New_York:20260512T103000
DTSTAMP:20260422T015051
CREATED:20260309T150041Z
LAST-MODIFIED:20260422T053803Z
UID:10000783-1778572800-1778581800@www.youresc.k12.oh.us
SUMMARY:ELA Teacher Network
DESCRIPTION:Description\nJoin middle and high school ELA colleagues for a collaborative network session focused on timely and relevant topics in literacy instruction. Together\, we will explore current challenges\, share effective strategies\, and discuss instructional practices that support adolescent readers and writers. This meeting creates space for dialogue\, resource-sharing\, and practical problem-solving to strengthen ELA teaching across our schools. \nELA Teacher Network \nRegistration\nClick here to register \nTime\n8:00-10:30 am \nLocation\nTri-County Educational Service Center\nEvent Center Room A\n700 Winkler Dr.\, Wooster\, OH \nCost\nFree to educators from member districts\nIncluded in networking fee for non-members \nContact\nKatie Swejk\ntesc_cswejk@tccsa.net\nJennifer Marrah\ntesc_jmarrah@tccsa.net \nCategories: Administrators\, Literacy
URL:https://www.youresc.k12.oh.us/event/ela-teacher-network/
LOCATION:Event Center Rm. A (700 Winkler Dr.\, Wooster\, OH 44691\, US)
CATEGORIES:Admin,Literacy
END:VEVENT
BEGIN:VEVENT
DTSTART;TZID=America/New_York:20260922T090000
DTEND;TZID=America/New_York:20260922T120000
DTSTAMP:20260422T015051
CREATED:20260413T183829Z
LAST-MODIFIED:20260422T053808Z
UID:10001029-1790067600-1790078400@www.youresc.k12.oh.us
SUMMARY:Instructional Coaching Network
DESCRIPTION:Description\nInstructional Coaching Network\nCategories: Administrators\, Literacy\, Fine Arts\, Math\, Behavior\, Special Education/Student Services
URL:https://www.youresc.k12.oh.us/event/instructional-coaching-network-6/
LOCATION:Event Center Rm. A (700 Winkler Dr.\, Wooster\, OH 44691\, US)
CATEGORIES:Admin,Behavior,Fine Arts,Literacy,Math,Student Services
END:VEVENT
BEGIN:VEVENT
DTSTART;TZID=America/New_York:20260930T130000
DTEND;TZID=America/New_York:20260930T150000
DTSTAMP:20260422T015051
CREATED:20260413T183830Z
LAST-MODIFIED:20260422T053808Z
UID:10001032-1790773200-1790780400@www.youresc.k12.oh.us
SUMMARY:Title III Coordinators
DESCRIPTION:Description\nTitle III Coordinators \nCategories: Administrators\, Literacy\, Behavior\, Special Education/Student Services
URL:https://www.youresc.k12.oh.us/event/title-iii-coordinators/
LOCATION:Event Center Rm. A (700 Winkler Dr.\, Wooster\, OH 44691\, US)
CATEGORIES:Admin,Behavior,Literacy,Student Services
END:VEVENT
BEGIN:VEVENT
DTSTART;TZID=America/New_York:20261013T130000
DTEND;TZID=America/New_York:20261013T150000
DTSTAMP:20260422T015051
CREATED:20260416T165433Z
LAST-MODIFIED:20260422T053809Z
UID:10001072-1791896400-1791903600@www.youresc.k12.oh.us
SUMMARY:SLPs - Virtual
DESCRIPTION:Description\nSLPs – Virtual \nCategories: Administrators\, Literacy\, Fine Arts\, Math\, Behavior\, Special Education/Student Services\, Support Staff\, Preschool
URL:https://www.youresc.k12.oh.us/event/slps-virtual/
CATEGORIES:Admin,Behavior,Fine Arts,Literacy,Math,Preschool,Student Services,Support Staff
END:VEVENT
BEGIN:VEVENT
DTSTART;TZID=America/New_York:20261029T080000
DTEND;TZID=America/New_York:20261029T103000
DTSTAMP:20260422T015051
CREATED:20260413T183831Z
LAST-MODIFIED:20260422T053810Z
UID:10001038-1793260800-1793269800@www.youresc.k12.oh.us
SUMMARY:MS/HS ELA Teacher Network
DESCRIPTION:Description\nELA Teacher Network\nCategories: Administrators\, Literacy
URL:https://www.youresc.k12.oh.us/event/ms-hs-ela-teacher-network/
LOCATION:Event Center Rm. A (700 Winkler Dr.\, Wooster\, OH 44691\, US)
CATEGORIES:Admin,Literacy
END:VEVENT
BEGIN:VEVENT
DTSTART;TZID=America/New_York:20261210T090000
DTEND;TZID=America/New_York:20261210T120000
DTSTAMP:20260422T015051
CREATED:20260413T183833Z
LAST-MODIFIED:20260422T053812Z
UID:10001046-1796893200-1796904000@www.youresc.k12.oh.us
SUMMARY:Instructional Coaching Network
DESCRIPTION:Description\nInstructional Coaching Network\nCategories: Administrators\, Literacy\, Fine Arts\, Math\, Behavior\, Special Education/Student Services
URL:https://www.youresc.k12.oh.us/event/instructional-coaching-network-7/
LOCATION:Event Center Rm. A (700 Winkler Dr.\, Wooster\, OH 44691\, US)
CATEGORIES:Admin,Behavior,Fine Arts,Literacy,Math,Student Services
END:VEVENT
BEGIN:VEVENT
DTSTART;TZID=America/New_York:20270202T130000
DTEND;TZID=America/New_York:20270202T150000
DTSTAMP:20260422T015051
CREATED:20260416T165437Z
LAST-MODIFIED:20260422T053814Z
UID:10001073-1801573200-1801580400@www.youresc.k12.oh.us
SUMMARY:SLPs - Virtual
DESCRIPTION:Description\nSLPs – Virtual \nCategories: Administrators\, Literacy\, Fine Arts\, Math\, Behavior\, Special Education/Student Services\, Support Staff\, Preschool
URL:https://www.youresc.k12.oh.us/event/slps-virtual-2/
CATEGORIES:Admin,Behavior,Fine Arts,Literacy,Math,Preschool,Student Services,Support Staff
END:VEVENT
BEGIN:VEVENT
DTSTART;TZID=America/New_York:20270223T090000
DTEND;TZID=America/New_York:20270223T120000
DTSTAMP:20260422T015051
CREATED:20260413T183836Z
LAST-MODIFIED:20260422T053815Z
UID:10001057-1803373200-1803384000@www.youresc.k12.oh.us
SUMMARY:Instructional Coaching Network
DESCRIPTION:Description\nInstructional Coaching Network\nCategories: Administrators\, Literacy\, Fine Arts\, Math\, Behavior\, Special Education/Student Services
URL:https://www.youresc.k12.oh.us/event/instructional-coaching-network-8/
LOCATION:Event Center Rm. A (700 Winkler Dr.\, Wooster\, OH 44691\, US)
CATEGORIES:Admin,Behavior,Fine Arts,Literacy,Math,Student Services
END:VEVENT
BEGIN:VEVENT
DTSTART;TZID=America/New_York:20270318T080000
DTEND;TZID=America/New_York:20270318T103000
DTSTAMP:20260422T015051
CREATED:20260413T183838Z
LAST-MODIFIED:20260422T053817Z
UID:10001062-1805356800-1805365800@www.youresc.k12.oh.us
SUMMARY:MS/HS ELA Teacher Network
DESCRIPTION:Description\nELA Teacher Network\nCategories: Administrators\, Literacy
URL:https://www.youresc.k12.oh.us/event/ms-hs-ela-teacher-network-2/
LOCATION:Event Center Rm. A (700 Winkler Dr.\, Wooster\, OH 44691\, US)
CATEGORIES:Admin,Literacy
END:VEVENT
BEGIN:VEVENT
DTSTART;TZID=America/New_York:20270413T130000
DTEND;TZID=America/New_York:20270413T150000
DTSTAMP:20260422T015051
CREATED:20260416T165440Z
LAST-MODIFIED:20260422T053818Z
UID:10001074-1807621200-1807628400@www.youresc.k12.oh.us
SUMMARY:SLPs - Virtual
DESCRIPTION:Description\nSLPs – Virtual \nCategories: Administrators\, Literacy\, Fine Arts\, Math\, Behavior\, Special Education/Student Services\, Support Staff\, Preschool
URL:https://www.youresc.k12.oh.us/event/slps-virtual-3/
CATEGORIES:Admin,Behavior,Fine Arts,Literacy,Math,Preschool,Student Services,Support Staff
END:VEVENT
END:VCALENDAR