BEGIN:VCALENDAR
VERSION:2.0
PRODID:-//Tri-County Educational Service Center - ECPv6.15.20//NONSGML v1.0//EN
CALSCALE:GREGORIAN
METHOD:PUBLISH
X-WR-CALNAME:Tri-County Educational Service Center
X-ORIGINAL-URL:https://www.youresc.k12.oh.us
X-WR-CALDESC:Events for Tri-County Educational Service Center
REFRESH-INTERVAL;VALUE=DURATION:PT1H
X-Robots-Tag:noindex
X-PUBLISHED-TTL:PT1H
BEGIN:VTIMEZONE
TZID:America/New_York
BEGIN:DAYLIGHT
TZOFFSETFROM:-0500
TZOFFSETTO:-0400
TZNAME:EDT
DTSTART:20260308T070000
END:DAYLIGHT
BEGIN:STANDARD
TZOFFSETFROM:-0400
TZOFFSETTO:-0500
TZNAME:EST
DTSTART:20261101T060000
END:STANDARD
BEGIN:DAYLIGHT
TZOFFSETFROM:-0500
TZOFFSETTO:-0400
TZNAME:EDT
DTSTART:20270314T070000
END:DAYLIGHT
BEGIN:STANDARD
TZOFFSETFROM:-0400
TZOFFSETTO:-0500
TZNAME:EST
DTSTART:20271107T060000
END:STANDARD
BEGIN:DAYLIGHT
TZOFFSETFROM:-0500
TZOFFSETTO:-0400
TZNAME:EDT
DTSTART:20280312T070000
END:DAYLIGHT
BEGIN:STANDARD
TZOFFSETFROM:-0400
TZOFFSETTO:-0500
TZNAME:EST
DTSTART:20281105T060000
END:STANDARD
END:VTIMEZONE
BEGIN:VEVENT
DTSTART;TZID=America/New_York:20270223T090000
DTEND;TZID=America/New_York:20270223T120000
DTSTAMP:20260421T143635
CREATED:20260413T183836Z
LAST-MODIFIED:20260421T182315Z
UID:10001057-1803373200-1803384000@www.youresc.k12.oh.us
SUMMARY:Instructional Coaching Network
DESCRIPTION:Description\nInstructional Coaching Network\nCategories: Administrators\, Literacy\, Fine Arts\, Math\, Behavior\, Special Education/Student Services
URL:https://www.youresc.k12.oh.us/event/instructional-coaching-network-8/
LOCATION:Event Center Rm. A (700 Winkler Dr.\, Wooster\, OH 44691\, US)
CATEGORIES:Admin,Behavior,Fine Arts,Literacy,Math,Student Services
END:VEVENT
BEGIN:VEVENT
DTSTART;TZID=America/New_York:20270225T083000
DTEND;TZID=America/New_York:20270225T100000
DTSTAMP:20260421T143635
CREATED:20260413T183836Z
LAST-MODIFIED:20260421T182315Z
UID:10001058-1803544200-1803549600@www.youresc.k12.oh.us
SUMMARY:School Psychologist Meeting
DESCRIPTION:Description\nSchool Psychologist Meeting \nCategories: Administrators\, Behavior\, Special Education/Student Services
URL:https://www.youresc.k12.oh.us/event/school-psychologist-meeting-6/
LOCATION:Event Center Rm. B (700 Winkler Dr.\, Wooster\, OH 44691\, US)
CATEGORIES:Admin,Behavior,Student Services
END:VEVENT
BEGIN:VEVENT
DTSTART;TZID=America/New_York:20270308T073000
DTEND;TZID=America/New_York:20270308T083000
DTSTAMP:20260421T143635
CREATED:20260416T135417Z
LAST-MODIFIED:20260421T182315Z
UID:10001070-1804491000-1804494600@www.youresc.k12.oh.us
SUMMARY:TESC Board Meeting
DESCRIPTION:Description\nTESC Board Meeting\nCategories: Administrators \nAM 4/16/26
URL:https://www.youresc.k12.oh.us/event/tesc-board-meeting-19/
LOCATION:Event Center Rm. A (700 Winkler Dr.\, Wooster\, OH 44691\, US)
CATEGORIES:Admin
END:VEVENT
BEGIN:VEVENT
DTSTART;TZID=America/New_York:20270316T090000
DTEND;TZID=America/New_York:20270316T120000
DTSTAMP:20260421T143635
CREATED:20260413T183838Z
LAST-MODIFIED:20260421T182316Z
UID:10001061-1805187600-1805198400@www.youresc.k12.oh.us
SUMMARY:School Counselor Meeting
DESCRIPTION:Description\nSchool Counselor Meeting \nCategories: Administrators\, Student Services/Special Ed
URL:https://www.youresc.k12.oh.us/event/school-counselor-meeting-6/
LOCATION:Event Center Rm. B (700 Winkler Dr.\, Wooster\, OH 44691\, US)
CATEGORIES:Admin,Student Services
END:VEVENT
BEGIN:VEVENT
DTSTART;TZID=America/New_York:20270318T080000
DTEND;TZID=America/New_York:20270318T103000
DTSTAMP:20260421T143635
CREATED:20260413T183838Z
LAST-MODIFIED:20260421T182317Z
UID:10001062-1805356800-1805365800@www.youresc.k12.oh.us
SUMMARY:MS/HS ELA Teacher Network
DESCRIPTION:Description\nELA Teacher Network\nCategories: Administrators\, Literacy
URL:https://www.youresc.k12.oh.us/event/ms-hs-ela-teacher-network-2/
LOCATION:Event Center Rm. A (700 Winkler Dr.\, Wooster\, OH 44691\, US)
CATEGORIES:Admin,Literacy
END:VEVENT
BEGIN:VEVENT
DTSTART;TZID=America/New_York:20270319T090000
DTEND;TZID=America/New_York:20270319T110000
DTSTAMP:20260421T143635
CREATED:20260413T183838Z
LAST-MODIFIED:20260421T182317Z
UID:10001063-1805446800-1805454000@www.youresc.k12.oh.us
SUMMARY:Superintendent's Meeting
DESCRIPTION:Description\nSuperintendent’s Meeting \nCategories: Administrators
URL:https://www.youresc.k12.oh.us/event/superintendents-meeting-13/
LOCATION:Event Center Rm. A (700 Winkler Dr.\, Wooster\, OH 44691\, US)
CATEGORIES:Admin
END:VEVENT
BEGIN:VEVENT
DTSTART;TZID=America/New_York:20270408T120000
DTEND;TZID=America/New_York:20270408T133000
DTSTAMP:20260421T143635
CREATED:20260413T183838Z
LAST-MODIFIED:20260421T182317Z
UID:10001064-1807185600-1807191000@www.youresc.k12.oh.us
SUMMARY:School Psychologist Meeting
DESCRIPTION:Description\nSchool Psychologist Meeting \nCategories: Administrators\, Behavior\, Special Education/Student Services
URL:https://www.youresc.k12.oh.us/event/school-psychologist-meeting-7/
LOCATION:Event Center Rm. B (700 Winkler Dr.\, Wooster\, OH 44691\, US)
CATEGORIES:Admin,Behavior,Student Services
END:VEVENT
BEGIN:VEVENT
DTSTART;TZID=America/New_York:20270412T073000
DTEND;TZID=America/New_York:20270412T083000
DTSTAMP:20260421T143635
CREATED:20260416T135419Z
LAST-MODIFIED:20260421T182317Z
UID:10001071-1807515000-1807518600@www.youresc.k12.oh.us
SUMMARY:TESC Board Meeting
DESCRIPTION:Description\nTESC Board Meeting\nCategories: Administrators \nAM 4/16/26
URL:https://www.youresc.k12.oh.us/event/tesc-board-meeting-20/
LOCATION:Event Center Rm. A (700 Winkler Dr.\, Wooster\, OH 44691\, US)
CATEGORIES:Admin
END:VEVENT
BEGIN:VEVENT
DTSTART;TZID=America/New_York:20270413T093000
DTEND;TZID=America/New_York:20270413T123000
DTSTAMP:20260421T143635
CREATED:20260413T183839Z
LAST-MODIFIED:20260421T182317Z
UID:10001065-1807608600-1807619400@www.youresc.k12.oh.us
SUMMARY:Special Education Director's Meeting
DESCRIPTION:Description\nSpecial Education Director’s Meeting \nCategories: Administrators\, Special Education/Student Services
URL:https://www.youresc.k12.oh.us/event/special-education-directors-meeting-7/
LOCATION:Event Center Rm. A (700 Winkler Dr.\, Wooster\, OH 44691\, US)
CATEGORIES:Admin,Student Services
END:VEVENT
BEGIN:VEVENT
DTSTART;TZID=America/New_York:20270413T130000
DTEND;TZID=America/New_York:20270413T150000
DTSTAMP:20260421T143635
CREATED:20260416T165440Z
LAST-MODIFIED:20260421T182318Z
UID:10001074-1807621200-1807628400@www.youresc.k12.oh.us
SUMMARY:SLPs - Virtual
DESCRIPTION:Description\nSLPs – Virtual \nCategories: Administrators\, Literacy\, Fine Arts\, Math\, Behavior\, Special Education/Student Services\, Support Staff\, Preschool
URL:https://www.youresc.k12.oh.us/event/slps-virtual-3/
CATEGORIES:Admin,Behavior,Fine Arts,Literacy,Math,Preschool,Student Services,Support Staff
END:VEVENT
BEGIN:VEVENT
DTSTART;TZID=America/New_York:20270416T090000
DTEND;TZID=America/New_York:20270416T110000
DTSTAMP:20260421T143635
CREATED:20260416T042314Z
LAST-MODIFIED:20260421T182318Z
UID:10001066-1807866000-1807873200@www.youresc.k12.oh.us
SUMMARY:Superintendent's Meeting
DESCRIPTION:Description\nSuperintendent’s Meeting \nCategories: Administrators
URL:https://www.youresc.k12.oh.us/event/superintendents-meeting-14/
LOCATION:Event Center Rm. A (700 Winkler Dr.\, Wooster\, OH 44691\, US)
CATEGORIES:Admin
END:VEVENT
END:VCALENDAR