BEGIN:VCALENDAR
VERSION:2.0
PRODID:-//Tri-County Educational Service Center - ECPv6.15.20//NONSGML v1.0//EN
CALSCALE:GREGORIAN
METHOD:PUBLISH
X-ORIGINAL-URL:https://www.youresc.k12.oh.us
X-WR-CALDESC:Events for Tri-County Educational Service Center
REFRESH-INTERVAL;VALUE=DURATION:PT1H
X-Robots-Tag:noindex
X-PUBLISHED-TTL:PT1H
BEGIN:VTIMEZONE
TZID:America/New_York
BEGIN:DAYLIGHT
TZOFFSETFROM:-0500
TZOFFSETTO:-0400
TZNAME:EDT
DTSTART:20250309T070000
END:DAYLIGHT
BEGIN:STANDARD
TZOFFSETFROM:-0400
TZOFFSETTO:-0500
TZNAME:EST
DTSTART:20251102T060000
END:STANDARD
BEGIN:DAYLIGHT
TZOFFSETFROM:-0500
TZOFFSETTO:-0400
TZNAME:EDT
DTSTART:20260308T070000
END:DAYLIGHT
BEGIN:STANDARD
TZOFFSETFROM:-0400
TZOFFSETTO:-0500
TZNAME:EST
DTSTART:20261101T060000
END:STANDARD
BEGIN:DAYLIGHT
TZOFFSETFROM:-0500
TZOFFSETTO:-0400
TZNAME:EDT
DTSTART:20270314T070000
END:DAYLIGHT
BEGIN:STANDARD
TZOFFSETFROM:-0400
TZOFFSETTO:-0500
TZNAME:EST
DTSTART:20271107T060000
END:STANDARD
BEGIN:DAYLIGHT
TZOFFSETFROM:-0500
TZOFFSETTO:-0400
TZNAME:EDT
DTSTART:20280312T070000
END:DAYLIGHT
BEGIN:STANDARD
TZOFFSETFROM:-0400
TZOFFSETTO:-0500
TZNAME:EST
DTSTART:20281105T060000
END:STANDARD
END:VTIMEZONE
BEGIN:VEVENT
DTSTART;TZID=America/New_York:20261013T130000
DTEND;TZID=America/New_York:20261013T150000
DTSTAMP:20260421T113400
CREATED:20260416T165433Z
LAST-MODIFIED:20260421T152308Z
UID:10001072-1791896400-1791903600@www.youresc.k12.oh.us
SUMMARY:SLPs - Virtual
DESCRIPTION:Description\nSLPs – Virtual \nCategories: Administrators\, Literacy\, Fine Arts\, Math\, Behavior\, Special Education/Student Services\, Support Staff\, Preschool
URL:https://www.youresc.k12.oh.us/event/slps-virtual/
CATEGORIES:Admin,Behavior,Fine Arts,Literacy,Math,Preschool,Student Services,Support Staff
END:VEVENT
BEGIN:VEVENT
DTSTART;TZID=America/New_York:20261019T090000
DTEND;TZID=America/New_York:20261019T110000
DTSTAMP:20260421T113400
CREATED:20260410T150512Z
LAST-MODIFIED:20260421T152308Z
UID:10001024-1792400400-1792407600@www.youresc.k12.oh.us
SUMMARY:Superintendent's Meeting
DESCRIPTION:Description\nSuperintendent’s Meeting \nCategories: Administrators
URL:https://www.youresc.k12.oh.us/event/superintendents-meeting-10/
LOCATION:Event Center Rm. A (700 Winkler Dr.\, Wooster\, OH 44691\, US)
CATEGORIES:Admin
END:VEVENT
BEGIN:VEVENT
DTSTART;TZID=America/New_York:20261027T090000
DTEND;TZID=America/New_York:20261027T120000
DTSTAMP:20260421T113400
CREATED:20260413T183831Z
LAST-MODIFIED:20260421T152308Z
UID:10001036-1793091600-1793102400@www.youresc.k12.oh.us
SUMMARY:School Counselor Meeting
DESCRIPTION:Description\nSchool Counselor Meeting \nCategories: Administrators\, Student Services/Special Ed
URL:https://www.youresc.k12.oh.us/event/school-counselor-meeting-4/
LOCATION:Event Center Rm. B (700 Winkler Dr.\, Wooster\, OH 44691\, US)
CATEGORIES:Admin,Student Services
END:VEVENT
BEGIN:VEVENT
DTSTART;TZID=America/New_York:20261028T090000
DTEND;TZID=America/New_York:20261028T110000
DTSTAMP:20260421T113400
CREATED:20260413T183831Z
LAST-MODIFIED:20260421T152308Z
UID:10001037-1793178000-1793185200@www.youresc.k12.oh.us
SUMMARY:Gifted Coordinators Network
DESCRIPTION:Description\nGifted Coordinators Network \nCategories: Administrators\,  Special Education/Student Services
URL:https://www.youresc.k12.oh.us/event/gifted-coordinators-network-3/
LOCATION:Event Center Rm. A (700 Winkler Dr.\, Wooster\, OH 44691\, US)
CATEGORIES:Admin,Student Services
END:VEVENT
BEGIN:VEVENT
DTSTART;TZID=America/New_York:20261029T080000
DTEND;TZID=America/New_York:20261029T103000
DTSTAMP:20260421T113400
CREATED:20260413T183831Z
LAST-MODIFIED:20260421T152309Z
UID:10001038-1793260800-1793269800@www.youresc.k12.oh.us
SUMMARY:MS/HS ELA Teacher Network
DESCRIPTION:Description\nELA Teacher Network\nCategories: Administrators\, Literacy
URL:https://www.youresc.k12.oh.us/event/ms-hs-ela-teacher-network/
LOCATION:Event Center Rm. A (700 Winkler Dr.\, Wooster\, OH 44691\, US)
CATEGORIES:Admin,Literacy
END:VEVENT
BEGIN:VEVENT
DTSTART;TZID=America/New_York:20261111T083000
DTEND;TZID=America/New_York:20261111T103000
DTSTAMP:20260421T113400
CREATED:20260413T183832Z
LAST-MODIFIED:20260421T152309Z
UID:10001040-1794385800-1794393000@www.youresc.k12.oh.us
SUMMARY:MS/HS Principal Meeting
DESCRIPTION:Description\nMS/HS Principal Meeting \nCategories: Administrators
URL:https://www.youresc.k12.oh.us/event/ms-hs-principal-meeting-5/
LOCATION:Event Center Rm. A (700 Winkler Dr.\, Wooster\, OH 44691\, US)
CATEGORIES:Admin
END:VEVENT
BEGIN:VEVENT
DTSTART;TZID=America/New_York:20261112T090000
DTEND;TZID=America/New_York:20261112T110000
DTSTAMP:20260421T113400
CREATED:20260413T183832Z
LAST-MODIFIED:20260421T152309Z
UID:10001041-1794474000-1794481200@www.youresc.k12.oh.us
SUMMARY:Elementary Principal Meeting
DESCRIPTION:Description\nElementary Principal Meeting \nCategories: Administrators
URL:https://www.youresc.k12.oh.us/event/elementary-principal-meeting-4/
LOCATION:Event Center Rm. A (700 Winkler Dr.\, Wooster\, OH 44691\, US)
CATEGORIES:Admin
END:VEVENT
BEGIN:VEVENT
DTSTART;TZID=America/New_York:20261118T090000
DTEND;TZID=America/New_York:20261118T110000
DTSTAMP:20260421T113400
CREATED:20260413T183832Z
LAST-MODIFIED:20260421T152310Z
UID:10001042-1794992400-1794999600@www.youresc.k12.oh.us
SUMMARY:Curriculum Directors Meeting
DESCRIPTION:Description\nCurriculum director’s network meeting \nRegistration\nN/A \nContact\nBeth Gaubatz \nCategories: Administrators
URL:https://www.youresc.k12.oh.us/event/curriculum-directors-meeting-5/
LOCATION:Event Center Rm. A (700 Winkler Dr.\, Wooster\, OH 44691\, US)
CATEGORIES:Admin
END:VEVENT
BEGIN:VEVENT
DTSTART;TZID=America/New_York:20261120T090000
DTEND;TZID=America/New_York:20261120T110000
DTSTAMP:20260421T113400
CREATED:20260410T150512Z
LAST-MODIFIED:20260421T152310Z
UID:10001025-1795165200-1795172400@www.youresc.k12.oh.us
SUMMARY:Superintendent Meetings
DESCRIPTION:Title\nSuperintendent’s Meeting \nInformation \nLocation\nEvent Center Room A \nTime\n9 a.m. – 11 a.m. \nRegistration \nAdditional Information \nCategories: Administrators
URL:https://www.youresc.k12.oh.us/event/superintendent-meetings/
LOCATION:Event Center Rm. A (700 Winkler Dr.\, Wooster\, OH 44691\, US)
CATEGORIES:Admin
END:VEVENT
BEGIN:VEVENT
DTSTART;TZID=America/New_York:20261201T093000
DTEND;TZID=America/New_York:20261201T123000
DTSTAMP:20260421T113400
CREATED:20260413T183833Z
LAST-MODIFIED:20260421T152310Z
UID:10001043-1796117400-1796128200@www.youresc.k12.oh.us
SUMMARY:Special Education Director's Meeting
DESCRIPTION:Description\nSpecial Education Director’s Meeting \nCategories: Administrators\, Special Education/Student Services
URL:https://www.youresc.k12.oh.us/event/special-education-directors-meeting-5/
LOCATION:Event Center Rm. A (700 Winkler Dr.\, Wooster\, OH 44691\, US)
CATEGORIES:Admin,Student Services
END:VEVENT
BEGIN:VEVENT
DTSTART;TZID=America/New_York:20261210T090000
DTEND;TZID=America/New_York:20261210T120000
DTSTAMP:20260421T113400
CREATED:20260413T183833Z
LAST-MODIFIED:20260421T152310Z
UID:10001046-1796893200-1796904000@www.youresc.k12.oh.us
SUMMARY:Instructional Coaching Network
DESCRIPTION:Description\nInstructional Coaching Network\nCategories: Administrators\, Literacy\, Fine Arts\, Math\, Behavior\, Special Education/Student Services
URL:https://www.youresc.k12.oh.us/event/instructional-coaching-network-7/
LOCATION:Event Center Rm. A (700 Winkler Dr.\, Wooster\, OH 44691\, US)
CATEGORIES:Admin,Behavior,Fine Arts,Literacy,Math,Student Services
END:VEVENT
BEGIN:VEVENT
DTSTART;TZID=America/New_York:20261210T120000
DTEND;TZID=America/New_York:20261210T133000
DTSTAMP:20260421T113400
CREATED:20260413T183834Z
LAST-MODIFIED:20260421T152311Z
UID:10001047-1796904000-1796909400@www.youresc.k12.oh.us
SUMMARY:School Psychologist Meeting
DESCRIPTION:Description\nSchool Psychologist Meeting \nCategories: Administrators\, Behavior\, Special Education/Student Services
URL:https://www.youresc.k12.oh.us/event/school-psychologist-meeting-5/
LOCATION:Event Center Rm. B (700 Winkler Dr.\, Wooster\, OH 44691\, US)
CATEGORIES:Admin,Behavior,Student Services
END:VEVENT
BEGIN:VEVENT
DTSTART;TZID=America/New_York:20261214T073000
DTEND;TZID=America/New_York:20261214T083000
DTSTAMP:20260421T113400
CREATED:20260416T135414Z
LAST-MODIFIED:20260421T152311Z
UID:10001067-1797233400-1797237000@www.youresc.k12.oh.us
SUMMARY:TESC Board Meeting
DESCRIPTION:Description\nTESC Board Meeting\nCategories: Administrators \nAM 4/16/26
URL:https://www.youresc.k12.oh.us/event/tesc-board-meeting-16/
LOCATION:Event Center Rm. A (700 Winkler Dr.\, Wooster\, OH 44691\, US)
CATEGORIES:Admin
END:VEVENT
BEGIN:VEVENT
DTSTART;TZID=America/New_York:20270111T073000
DTEND;TZID=America/New_York:20270111T083000
DTSTAMP:20260421T113400
CREATED:20260416T135414Z
LAST-MODIFIED:20260421T152311Z
UID:10001068-1799652600-1799656200@www.youresc.k12.oh.us
SUMMARY:TESC Board Meeting
DESCRIPTION:Description\nTESC Board Meeting\nCategories: Administrators \nAM 4/16/26
URL:https://www.youresc.k12.oh.us/event/tesc-board-meeting-17/
LOCATION:Event Center Rm. A (700 Winkler Dr.\, Wooster\, OH 44691\, US)
CATEGORIES:Admin
END:VEVENT
BEGIN:VEVENT
DTSTART;TZID=America/New_York:20270115T090000
DTEND;TZID=America/New_York:20270115T110000
DTSTAMP:20260421T113400
CREATED:20260410T150512Z
LAST-MODIFIED:20260421T152311Z
UID:10001026-1800003600-1800010800@www.youresc.k12.oh.us
SUMMARY:Superintendent's Meeting
DESCRIPTION:Title\nSuperintendent’s Meeting \nInformation \nLocation\nEvent Center Room A \nTime\n9 a.m. – 11 a.m. \nRegistration \nAdditional Information \nCategories: Administrators
URL:https://www.youresc.k12.oh.us/event/superintendents-meeting-11/
LOCATION:Event Center Rm. A (700 Winkler Dr.\, Wooster\, OH 44691\, US)
CATEGORIES:Admin
END:VEVENT
BEGIN:VEVENT
DTSTART;TZID=America/New_York:20270126T090000
DTEND;TZID=America/New_York:20270126T120000
DTSTAMP:20260421T113400
CREATED:20260413T183834Z
LAST-MODIFIED:20260421T152312Z
UID:10001049-1800954000-1800964800@www.youresc.k12.oh.us
SUMMARY:School Counselor Meeting
DESCRIPTION:Description\nSchool Counselor Meeting \nCategories: Administrators\, Student Services/Special Ed
URL:https://www.youresc.k12.oh.us/event/school-counselor-meeting-5/
LOCATION:Event Center Rm. B (700 Winkler Dr.\, Wooster\, OH 44691\, US)
CATEGORIES:Admin,Student Services
END:VEVENT
BEGIN:VEVENT
DTSTART;TZID=America/New_York:20270202T093000
DTEND;TZID=America/New_York:20270202T123000
DTSTAMP:20260421T113400
CREATED:20260413T183835Z
LAST-MODIFIED:20260421T152312Z
UID:10001050-1801560600-1801571400@www.youresc.k12.oh.us
SUMMARY:Special Education Director's Meeting
DESCRIPTION:Description\nSpecial Education Director’s Meeting \nCategories: Administrators\, Special Education/Student Services
URL:https://www.youresc.k12.oh.us/event/special-education-directors-meeting-6/
LOCATION:Event Center Rm. A (700 Winkler Dr.\, Wooster\, OH 44691\, US)
CATEGORIES:Admin,Student Services
END:VEVENT
BEGIN:VEVENT
DTSTART;TZID=America/New_York:20270202T130000
DTEND;TZID=America/New_York:20270202T150000
DTSTAMP:20260421T113400
CREATED:20260416T165437Z
LAST-MODIFIED:20260421T152312Z
UID:10001073-1801573200-1801580400@www.youresc.k12.oh.us
SUMMARY:SLPs - Virtual
DESCRIPTION:Description\nSLPs – Virtual \nCategories: Administrators\, Literacy\, Fine Arts\, Math\, Behavior\, Special Education/Student Services\, Support Staff\, Preschool
URL:https://www.youresc.k12.oh.us/event/slps-virtual-2/
CATEGORIES:Admin,Behavior,Fine Arts,Literacy,Math,Preschool,Student Services,Support Staff
END:VEVENT
BEGIN:VEVENT
DTSTART;TZID=America/New_York:20270203T090000
DTEND;TZID=America/New_York:20270203T110000
DTSTAMP:20260421T113400
CREATED:20260413T183835Z
LAST-MODIFIED:20260421T152312Z
UID:10001051-1801645200-1801652400@www.youresc.k12.oh.us
SUMMARY:Gifted Coordinators Network
DESCRIPTION:Description\nGifted Coordinators Network \nCategories: Administrators\,  Special Education/Student Services
URL:https://www.youresc.k12.oh.us/event/gifted-coordinators-network-4/
LOCATION:Event Center Rm. A (700 Winkler Dr.\, Wooster\, OH 44691\, US)
CATEGORIES:Admin,Student Services
END:VEVENT
BEGIN:VEVENT
DTSTART;TZID=America/New_York:20270208T073000
DTEND;TZID=America/New_York:20270208T083000
DTSTAMP:20260421T113400
CREATED:20260416T135416Z
LAST-MODIFIED:20260421T152313Z
UID:10001069-1802071800-1802075400@www.youresc.k12.oh.us
SUMMARY:TESC Board Meeting
DESCRIPTION:Description\nTESC Board Meeting\nCategories: Administrators \nAM 4/16/26
URL:https://www.youresc.k12.oh.us/event/tesc-board-meeting-18/
LOCATION:Event Center Rm. A (700 Winkler Dr.\, Wooster\, OH 44691\, US)
CATEGORIES:Admin
END:VEVENT
BEGIN:VEVENT
DTSTART;TZID=America/New_York:20270210T083000
DTEND;TZID=America/New_York:20270210T103000
DTSTAMP:20260421T113400
CREATED:20260413T183835Z
LAST-MODIFIED:20260421T152313Z
UID:10001052-1802248200-1802255400@www.youresc.k12.oh.us
SUMMARY:MS/HS Principal Meeting
DESCRIPTION:Description\nMS/HS Principal Meeting \nCategories: Administrators
URL:https://www.youresc.k12.oh.us/event/ms-hs-principal-meeting-6/
LOCATION:Event Center Rm. A (700 Winkler Dr.\, Wooster\, OH 44691\, US)
CATEGORIES:Admin
END:VEVENT
BEGIN:VEVENT
DTSTART;TZID=America/New_York:20270211T090000
DTEND;TZID=America/New_York:20270211T110000
DTSTAMP:20260421T113400
CREATED:20260413T183836Z
LAST-MODIFIED:20260421T152313Z
UID:10001054-1802336400-1802343600@www.youresc.k12.oh.us
SUMMARY:Elementary Principal Meeting
DESCRIPTION:Description\nElementary Principal Meeting \nCategories: Administrators \n____________________________________
URL:https://www.youresc.k12.oh.us/event/elementary-principal-meeting-5/
LOCATION:Event Center Rm. A (700 Winkler Dr.\, Wooster\, OH 44691\, US)
CATEGORIES:Admin
END:VEVENT
BEGIN:VEVENT
DTSTART;TZID=America/New_York:20270217T090000
DTEND;TZID=America/New_York:20270217T110000
DTSTAMP:20260421T113400
CREATED:20260413T183836Z
LAST-MODIFIED:20260421T152313Z
UID:10001055-1802854800-1802862000@www.youresc.k12.oh.us
SUMMARY:Curriculum Directors Meeting
DESCRIPTION:Description\nCurriculum director’s network meeting \nRegistration\nN/A \nContact\nBeth Gaubatz \nCategories: Administrators
URL:https://www.youresc.k12.oh.us/event/curriculum-directors-meeting-6/
LOCATION:Event Center Rm. A (700 Winkler Dr.\, Wooster\, OH 44691\, US)
CATEGORIES:Admin
END:VEVENT
BEGIN:VEVENT
DTSTART;TZID=America/New_York:20270219T090000
DTEND;TZID=America/New_York:20270219T110000
DTSTAMP:20260421T113400
CREATED:20260413T183836Z
LAST-MODIFIED:20260421T152313Z
UID:10001056-1803027600-1803034800@www.youresc.k12.oh.us
SUMMARY:Superintendent's Meeting
DESCRIPTION:Description\nSuperintendent’s Meeting \nCategories: Administrators
URL:https://www.youresc.k12.oh.us/event/superintendents-meeting-12/
LOCATION:Event Center Rm. A (700 Winkler Dr.\, Wooster\, OH 44691\, US)
CATEGORIES:Admin
END:VEVENT
BEGIN:VEVENT
DTSTART;TZID=America/New_York:20270223T090000
DTEND;TZID=America/New_York:20270223T120000
DTSTAMP:20260421T113400
CREATED:20260413T183836Z
LAST-MODIFIED:20260421T152314Z
UID:10001057-1803373200-1803384000@www.youresc.k12.oh.us
SUMMARY:Instructional Coaching Network
DESCRIPTION:Description\nInstructional Coaching Network\nCategories: Administrators\, Literacy\, Fine Arts\, Math\, Behavior\, Special Education/Student Services
URL:https://www.youresc.k12.oh.us/event/instructional-coaching-network-8/
LOCATION:Event Center Rm. A (700 Winkler Dr.\, Wooster\, OH 44691\, US)
CATEGORIES:Admin,Behavior,Fine Arts,Literacy,Math,Student Services
END:VEVENT
BEGIN:VEVENT
DTSTART;TZID=America/New_York:20270225T083000
DTEND;TZID=America/New_York:20270225T100000
DTSTAMP:20260421T113400
CREATED:20260413T183836Z
LAST-MODIFIED:20260421T152314Z
UID:10001058-1803544200-1803549600@www.youresc.k12.oh.us
SUMMARY:School Psychologist Meeting
DESCRIPTION:Description\nSchool Psychologist Meeting \nCategories: Administrators\, Behavior\, Special Education/Student Services
URL:https://www.youresc.k12.oh.us/event/school-psychologist-meeting-6/
LOCATION:Event Center Rm. B (700 Winkler Dr.\, Wooster\, OH 44691\, US)
CATEGORIES:Admin,Behavior,Student Services
END:VEVENT
BEGIN:VEVENT
DTSTART;TZID=America/New_York:20270308T073000
DTEND;TZID=America/New_York:20270308T083000
DTSTAMP:20260421T113400
CREATED:20260416T135417Z
LAST-MODIFIED:20260421T152314Z
UID:10001070-1804491000-1804494600@www.youresc.k12.oh.us
SUMMARY:TESC Board Meeting
DESCRIPTION:Description\nTESC Board Meeting\nCategories: Administrators \nAM 4/16/26
URL:https://www.youresc.k12.oh.us/event/tesc-board-meeting-19/
LOCATION:Event Center Rm. A (700 Winkler Dr.\, Wooster\, OH 44691\, US)
CATEGORIES:Admin
END:VEVENT
BEGIN:VEVENT
DTSTART;TZID=America/New_York:20270316T090000
DTEND;TZID=America/New_York:20270316T120000
DTSTAMP:20260421T113400
CREATED:20260413T183838Z
LAST-MODIFIED:20260421T152315Z
UID:10001061-1805187600-1805198400@www.youresc.k12.oh.us
SUMMARY:School Counselor Meeting
DESCRIPTION:Description\nSchool Counselor Meeting \nCategories: Administrators\, Student Services/Special Ed
URL:https://www.youresc.k12.oh.us/event/school-counselor-meeting-6/
LOCATION:Event Center Rm. B (700 Winkler Dr.\, Wooster\, OH 44691\, US)
CATEGORIES:Admin,Student Services
END:VEVENT
BEGIN:VEVENT
DTSTART;TZID=America/New_York:20270318T080000
DTEND;TZID=America/New_York:20270318T103000
DTSTAMP:20260421T113400
CREATED:20260413T183838Z
LAST-MODIFIED:20260421T152315Z
UID:10001062-1805356800-1805365800@www.youresc.k12.oh.us
SUMMARY:MS/HS ELA Teacher Network
DESCRIPTION:Description\nELA Teacher Network\nCategories: Administrators\, Literacy
URL:https://www.youresc.k12.oh.us/event/ms-hs-ela-teacher-network-2/
LOCATION:Event Center Rm. A (700 Winkler Dr.\, Wooster\, OH 44691\, US)
CATEGORIES:Admin,Literacy
END:VEVENT
BEGIN:VEVENT
DTSTART;TZID=America/New_York:20270319T090000
DTEND;TZID=America/New_York:20270319T110000
DTSTAMP:20260421T113400
CREATED:20260413T183838Z
LAST-MODIFIED:20260421T152316Z
UID:10001063-1805446800-1805454000@www.youresc.k12.oh.us
SUMMARY:Superintendent's Meeting
DESCRIPTION:Description\nSuperintendent’s Meeting \nCategories: Administrators
URL:https://www.youresc.k12.oh.us/event/superintendents-meeting-13/
LOCATION:Event Center Rm. A (700 Winkler Dr.\, Wooster\, OH 44691\, US)
CATEGORIES:Admin
END:VEVENT
END:VCALENDAR