BEGIN:VCALENDAR
VERSION:2.0
PRODID:-//Tri-County Educational Service Center - ECPv6.15.20//NONSGML v1.0//EN
CALSCALE:GREGORIAN
METHOD:PUBLISH
X-ORIGINAL-URL:https://www.youresc.k12.oh.us
X-WR-CALDESC:Events for Tri-County Educational Service Center
REFRESH-INTERVAL;VALUE=DURATION:PT1H
X-Robots-Tag:noindex
X-PUBLISHED-TTL:PT1H
BEGIN:VTIMEZONE
TZID:America/New_York
BEGIN:DAYLIGHT
TZOFFSETFROM:-0500
TZOFFSETTO:-0400
TZNAME:EDT
DTSTART:20240310T070000
END:DAYLIGHT
BEGIN:STANDARD
TZOFFSETFROM:-0400
TZOFFSETTO:-0500
TZNAME:EST
DTSTART:20241103T060000
END:STANDARD
BEGIN:DAYLIGHT
TZOFFSETFROM:-0500
TZOFFSETTO:-0400
TZNAME:EDT
DTSTART:20250309T070000
END:DAYLIGHT
BEGIN:STANDARD
TZOFFSETFROM:-0400
TZOFFSETTO:-0500
TZNAME:EST
DTSTART:20251102T060000
END:STANDARD
BEGIN:DAYLIGHT
TZOFFSETFROM:-0500
TZOFFSETTO:-0400
TZNAME:EDT
DTSTART:20260308T070000
END:DAYLIGHT
BEGIN:STANDARD
TZOFFSETFROM:-0400
TZOFFSETTO:-0500
TZNAME:EST
DTSTART:20261101T060000
END:STANDARD
END:VTIMEZONE
BEGIN:VEVENT
DTSTART;TZID=America/New_York:20250605T083000
DTEND;TZID=America/New_York:20250605T113000
DTSTAMP:20260422T013459
CREATED:20260309T150558Z
LAST-MODIFIED:20260417T210430Z
UID:10000862-1749112200-1749123000@www.youresc.k12.oh.us
SUMMARY:Parapro Testing
DESCRIPTION:Registration \nAdditional Information \nContact Information\nKaren Miller \nCategories: Administrators \nkm 4/25/24
URL:https://www.youresc.k12.oh.us/event/parapro-testing-10/
LOCATION:TESC Computer Lab (741 WInkler Dr.\, Wooster\, OH 44691\, US)
CATEGORIES:Admin
END:VEVENT
BEGIN:VEVENT
DTSTART;TZID=America/New_York:20250605T083000
DTEND;TZID=America/New_York:20250605T153000
DTSTAMP:20260422T013459
CREATED:20260309T150558Z
LAST-MODIFIED:20260417T210430Z
UID:10000860-1749112200-1749137400@www.youresc.k12.oh.us
SUMMARY:Fifth Annual Math Camp
DESCRIPTION:Title\nFifth Annual Math Camp \nInformation\nFlier with Registration Link \nLocation\nGreen Middle School\n200 Smithie Dr\nSmithville\, OH 44677 \nTime\n8:30 – 3:00 \nRegistration\nLink to register \nAdditional Information\nPlease contact Jill Kelly at tesc_jkelly@tccsa.net or Katie Kirkpatrick at tesc_kkirkpatrick.net with questions. \nCategories: Administrators\, Math
URL:https://www.youresc.k12.oh.us/event/fifth-annual-math-camp/
CATEGORIES:Admin,Math
END:VEVENT
BEGIN:VEVENT
DTSTART;TZID=America/New_York:20250605T083000
DTEND;TZID=America/New_York:20250605T153000
DTSTAMP:20260422T013459
CREATED:20260309T150558Z
LAST-MODIFIED:20260417T210430Z
UID:10000861-1749112200-1749137400@www.youresc.k12.oh.us
SUMMARY:LETRS: Unit 7
DESCRIPTION:Registration \nAdditional Information \nContact Information\nJennifer Marrah/Beth Gaubatz \nCategories: Administrators\, Literacy\, Behavior\, Student Services/Special Ed \nMarrah/Gaubatz \n05/02/2024 – TM
URL:https://www.youresc.k12.oh.us/event/letrs-unit-7/
LOCATION:Event Center Rm. B (700 Winkler Dr.\, Wooster\, OH 44691\, US)
CATEGORIES:Admin,Behavior,Literacy,Student Services
END:VEVENT
END:VCALENDAR