BEGIN:VCALENDAR
VERSION:2.0
PRODID:-//Tri-County Educational Service Center - ECPv6.15.20//NONSGML v1.0//EN
CALSCALE:GREGORIAN
METHOD:PUBLISH
X-ORIGINAL-URL:https://www.youresc.k12.oh.us
X-WR-CALDESC:Events for Tri-County Educational Service Center
REFRESH-INTERVAL;VALUE=DURATION:PT1H
X-Robots-Tag:noindex
X-PUBLISHED-TTL:PT1H
BEGIN:VTIMEZONE
TZID:America/New_York
BEGIN:DAYLIGHT
TZOFFSETFROM:-0500
TZOFFSETTO:-0400
TZNAME:EDT
DTSTART:20240310T070000
END:DAYLIGHT
BEGIN:STANDARD
TZOFFSETFROM:-0400
TZOFFSETTO:-0500
TZNAME:EST
DTSTART:20241103T060000
END:STANDARD
BEGIN:DAYLIGHT
TZOFFSETFROM:-0500
TZOFFSETTO:-0400
TZNAME:EDT
DTSTART:20250309T070000
END:DAYLIGHT
BEGIN:STANDARD
TZOFFSETFROM:-0400
TZOFFSETTO:-0500
TZNAME:EST
DTSTART:20251102T060000
END:STANDARD
BEGIN:DAYLIGHT
TZOFFSETFROM:-0500
TZOFFSETTO:-0400
TZNAME:EDT
DTSTART:20260308T070000
END:DAYLIGHT
BEGIN:STANDARD
TZOFFSETFROM:-0400
TZOFFSETTO:-0500
TZNAME:EST
DTSTART:20261101T060000
END:STANDARD
END:VTIMEZONE
BEGIN:VEVENT
DTSTART;TZID=America/New_York:20250610T083000
DTEND;TZID=America/New_York:20250610T113000
DTSTAMP:20260422T025606
CREATED:20260309T150559Z
LAST-MODIFIED:20260417T210431Z
UID:10000868-1749544200-1749555000@www.youresc.k12.oh.us
SUMMARY:Behavior Basics
DESCRIPTION:*\nDescription \n  *\nABCs of behavior\n  *\nDefining behavior\n  *\nReinforcement and punishment\n  * \n  *\nRegistration\n  *\nRegister here \n  * \n  *\nContact\n  *\nSteph Baker\n  *\ntesc_sbaker@tccsa.net\n  * \nCategories: Behavior\n  *
URL:https://www.youresc.k12.oh.us/event/behavior-basics/
LOCATION:Event Center Rm. B (700 Winkler Dr.\, Wooster\, OH 44691\, US)
CATEGORIES:Behavior
END:VEVENT
BEGIN:VEVENT
DTSTART;TZID=America/New_York:20250610T123000
DTEND;TZID=America/New_York:20250610T153000
DTSTAMP:20260422T025606
CREATED:20260309T150600Z
LAST-MODIFIED:20260417T210431Z
UID:10000869-1749558600-1749569400@www.youresc.k12.oh.us
SUMMARY:Behavior Assessment & Data Collection
DESCRIPTION:Description \nFunctions of Behavior\nRecording Methods \nRegistration\nRegister here \nContact\nSteph Baker\ntesc_sbaker@tccsa.net \nCategories: Behavior
URL:https://www.youresc.k12.oh.us/event/behavior-assessment-data-collection/
LOCATION:Event Center Rm. B (700 Winkler Dr.\, Wooster\, OH 44691\, US)
CATEGORIES:Behavior
END:VEVENT
END:VCALENDAR